BEGIN:VCALENDAR
VERSION:2.0
PRODID:-//Flex - ECPv6.15.16//NONSGML v1.0//EN
CALSCALE:GREGORIAN
METHOD:PUBLISH
X-ORIGINAL-URL:https://flex.at
X-WR-CALDESC:Veranstaltungen für Flex
REFRESH-INTERVAL;VALUE=DURATION:PT1H
X-Robots-Tag:noindex
X-PUBLISHED-TTL:PT1H
BEGIN:VTIMEZONE
TZID:Europe/Berlin
BEGIN:DAYLIGHT
TZOFFSETFROM:+0100
TZOFFSETTO:+0200
TZNAME:CEST
DTSTART:20250330T010000
END:DAYLIGHT
BEGIN:STANDARD
TZOFFSETFROM:+0200
TZOFFSETTO:+0100
TZNAME:CET
DTSTART:20251026T010000
END:STANDARD
BEGIN:DAYLIGHT
TZOFFSETFROM:+0100
TZOFFSETTO:+0200
TZNAME:CEST
DTSTART:20260329T010000
END:DAYLIGHT
BEGIN:STANDARD
TZOFFSETFROM:+0200
TZOFFSETTO:+0100
TZNAME:CET
DTSTART:20261025T010000
END:STANDARD
BEGIN:DAYLIGHT
TZOFFSETFROM:+0100
TZOFFSETTO:+0200
TZNAME:CEST
DTSTART:20270328T010000
END:DAYLIGHT
BEGIN:STANDARD
TZOFFSETFROM:+0200
TZOFFSETTO:+0100
TZNAME:CET
DTSTART:20271031T010000
END:STANDARD
END:VTIMEZONE
BEGIN:VEVENT
DTSTART;TZID=Europe/Berlin:20261208T190000
DTEND;TZID=Europe/Berlin:20261208T230000
DTSTAMP:20260423T193544
CREATED:20260324T101307Z
LAST-MODIFIED:20260324T101307Z
UID:7790-1796756400-1796770800@flex.at
SUMMARY:Selig
DESCRIPTION:Die deutschen Grunge-Legenden können einfach nicht stillhalten: Kaum ist ihre letzte Tour „30 Jahre Selig” erfolgreich beendet\, kündigen sie ihre „The EPIC Years” Tour an! \nSeit 1993 liefern SELIG einen eingängigen Brecher nach dem anderen. Als eine der wenigen Bands aus der VIVA-Ära\, die bis auf ein Mitglied noch in Originalbesetzung unterwegs sind\, bringen sie seit 2010 unermüdlich ihre zeitlosen Hits auf Deutschlands und Österreichs Bühnen\, und zwar mit der gleichen Energie und Liebe zum Detail wie vor 30 Jahren! Nach einer nahezu ausverkauften Tour widmen sich SELIG ihren „EPIC Years“: Im Frühjahr 2026 erscheint eine Vinyl-Box mit dem Debütalbum „Selig“\, „Hier“ und „Blender“ – alle drei Alben stammen aus ihrer Zeit beim Sony-Label EPIC\, das in international für Künstler wie Pearl Jam\, Rage Against the Machine und viele weitere stilprägende Veröffentlichungen bekannt wurde. \nGenau diese Atmosphäre und Energie ihrer frühen Phase bringen SELIG auf ihrer „The EPIC Years“-Tour wieder auf die Bühne. Für neue wie alte Fans bedeutet das: Eine Live-Show der Meisterklasse\, wie sie nur eine Tour-erfahrene Band wie SELIG auf die Bühne bringen kann. \nIm Winter 2026 ist es so weit: SELIG sind wieder live und in Aktion zu erleben – ein Muss\, nicht nur für die Fans der ersten Stunde!
URL:https://flex.at/event/selig/
CATEGORIES:Live
ATTACH;FMTTYPE=image/jpeg:https://flex.at/wp-content/uploads/2026/03/selig_c-sven-sindt_tickets-2026-m.jpeg
END:VEVENT
END:VCALENDAR