BEGIN:VCALENDAR
VERSION:2.0
PRODID:-//Flex - ECPv6.15.16//NONSGML v1.0//EN
CALSCALE:GREGORIAN
METHOD:PUBLISH
X-WR-CALNAME:Flex
X-ORIGINAL-URL:https://flex.at
X-WR-CALDESC:Veranstaltungen für Flex
REFRESH-INTERVAL;VALUE=DURATION:PT1H
X-Robots-Tag:noindex
X-PUBLISHED-TTL:PT1H
BEGIN:VTIMEZONE
TZID:Europe/Berlin
BEGIN:DAYLIGHT
TZOFFSETFROM:+0100
TZOFFSETTO:+0200
TZNAME:CEST
DTSTART:20250330T010000
END:DAYLIGHT
BEGIN:STANDARD
TZOFFSETFROM:+0200
TZOFFSETTO:+0100
TZNAME:CET
DTSTART:20251026T010000
END:STANDARD
BEGIN:DAYLIGHT
TZOFFSETFROM:+0100
TZOFFSETTO:+0200
TZNAME:CEST
DTSTART:20260329T010000
END:DAYLIGHT
BEGIN:STANDARD
TZOFFSETFROM:+0200
TZOFFSETTO:+0100
TZNAME:CET
DTSTART:20261025T010000
END:STANDARD
BEGIN:DAYLIGHT
TZOFFSETFROM:+0100
TZOFFSETTO:+0200
TZNAME:CEST
DTSTART:20270328T010000
END:DAYLIGHT
BEGIN:STANDARD
TZOFFSETFROM:+0200
TZOFFSETTO:+0100
TZNAME:CET
DTSTART:20271031T010000
END:STANDARD
END:VTIMEZONE
BEGIN:VEVENT
DTSTART;TZID=Europe/Berlin:20260903T190000
DTEND;TZID=Europe/Berlin:20260903T230000
DTSTAMP:20260423T150341
CREATED:20260414T064249Z
LAST-MODIFIED:20260414T064343Z
UID:7853-1788462000-1788476400@flex.at
SUMMARY:Zackavelli
DESCRIPTION:Zackavelli\n\nWer die Entwicklung im Deutschrap-Underground mitverfolgt\, kommt spätestens seit 2023 nicht mehr an ihm vorbei. Auf der Bildfläche erscheint Zackavelli allerdings schon ein paar Jahre zuvor. Doch es sind Tracks wie der „Tiger Woods Freestyle“ mit Coolpacc\, „*Ja Man!*“ oder „Glock unterm Kleid“\, die den Stein so richtig ins Rollen bringen. Ab 2024 avanciert Zackavelli dann zu einem der angesagtesten Newcomer der Szene. Von US Trap inspirierte Beats und im Mumble Rap-Stil vorgetragene Lyrics über das Leben in Berlin-Kreuzberg sind Zackavellis Markenzeichen – und sein Erfolgsgeheimnis. Denn aus diesen und weiteren sorgfältig ausgewählten Zutaten entsteht ein eigenständiger Sound\, der dem Nachwuchsrapper stetig wachsende Aufmerksamkeit beschert.Zackavelli steigt 2019 ins Rap Game ein. Damals macht er mit Kollegen wie Kane und Ello gemeinsame Sache\, etwa in Form des Kollabo-Albums „Saphir“\, das 2020 herauskommt. Unter dem Titel „Babylon“ erscheint 2021 ein weiterer Output von Zackavelli und Ello. Wer diese Frühwerke heute bei Streamingdiensten sucht\, wird nur noch im Archiv des Rappers fündig. Grund hierfür ist ein Neustart\, den der Berliner wagt\, und zwar im Alleingang. Im August 2021 droppt er seine erste Solo-Single „Z3’“\, gefolgt von „O.J. Mayo“. Mit weiteren Singles vergrößert sich die Reichweite zusehends. Der minimalistische Stil\, der an US-Rapper der Sorte Young Thug erinnert\, scheint bei den Leuten anzukommen. Dazu bietet Zackavellis Musik reichlich Abwechslung. Die Tracks sind progressiv und eben minimalistisch\, aber gleichzeitig melodisch bis hin zu tanzbar. Ferner wird sein Output geprägt vom geschickten Einsatz von Samples\, wie jenes aus „Bitch Don’t Kill My Vibe“ von Kendrick Lamar\, das auf „Tiger Woods Freestyle“ zu hören ist.
URL:https://flex.at/event/zackavelli/
CATEGORIES:Live
ATTACH;FMTTYPE=image/jpeg:https://flex.at/wp-content/uploads/2026/04/84ef03c8-4c4d-40ae-a670-a55328021209_CUSTOM.jpeg
END:VEVENT
BEGIN:VEVENT
DTSTART;TZID=Europe/Berlin:20260905T190000
DTEND;TZID=Europe/Berlin:20260905T230000
DTSTAMP:20260423T150341
CREATED:20251202T104616Z
LAST-MODIFIED:20260223T104430Z
UID:7295-1788634800-1788649200@flex.at
SUMMARY:Marlo Grosshardt
DESCRIPTION:Marlo Grosshardt singt schön provokant über die Welt\, die ihn umgibt. Der 23-jährige Hamburger packt seine kritischen Texte in ein raues Pop-Gewand. Seine kraftvolle Stimme trägt uns durch nostalgische Melodien und mitreißende Rhythmen.  \n Sein Debütalbum „Ein letztes Liebeslied“ ist ein dystopischer Ausblick\, dramatisch inszeniert und doch wunderschön. Es ist in zwei Akte aufgeteilt. Zu Beginn geht es um die Liebe und den romantischen Weltuntergang. Eine Resignation vor der Dystopie\, die Marlo vorschwebt. „Lasst uns trinken\, auf dass es bald vorbei ist.“ Daraufhin wird von scheiternden Steuerhinterziehungen auf hoher See in einer endlichen Welt erzählt. Im zweiten Teil kehrt Marlo dann ins Hier und Jetzt zurück. Die Geschichten werden schön\, provokant und konkret. „Jungfernstieg“ schildert den Moment zweier junger Menschen\, die den scheinbaren Reichtum und die Liebe erleben. In „Angestellt sein“ wird der Trott des Arbeitslebens besungen. Bei „Christian Lindner“ lässt Marlo seinen Frust am Liberalismus aus\, ohne aber dabei den Zeigefinger zu hoch zu halten.  \nDie Tour zum Album war ein großer Erfolg. Viele Shows waren ausverkauft und mussten teilweise hochverlegt werden. Marlo kann mit seinen tiefgehenden Texten das Publikum emotional berühren\, aber zugleich auch zusammen mit seiner wundervollen Band zum Tanzen bringen.
URL:https://flex.at/event/marlo-grosshardt/
CATEGORIES:Live
ATTACH;FMTTYPE=image/jpeg:https://flex.at/wp-content/uploads/2025/12/csm_Pressefoto_MARLO_GROSSHARDT__c__Julia_Tiemann_Kopie-2_fb9944beca.jpeg
END:VEVENT
BEGIN:VEVENT
DTSTART;TZID=Europe/Berlin:20260907T190000
DTEND;TZID=Europe/Berlin:20260907T230000
DTSTAMP:20260423T150341
CREATED:20251203T080305Z
LAST-MODIFIED:20260224T091931Z
UID:7341-1788807600-1788822000@flex.at
SUMMARY:Anaïs
DESCRIPTION:Goldene Sonnenstrahlen auf makellosem Teint\, rote Lippen an kalten Drinks\, Flirts mit dem Crush und Goodbye in der Lobby: Anaïs liefert den Soundtrack zur Zeit unseres Lebens. Ihre Musik folgt ihrem Charme\, zwischen classy und lässig\, indie und urban\, Jetset und Heimweh. Zwischen all dem schafft sich Anaïs ihre eigene Kategorie. Anaïs’ Sound ist vielfältig: Von organischen Mellotron-Samples und dreamy Gitarrenriffs bis boomy Basslines und bouncy Backbeats. Von Anfang an vergeht alles wie im Zeitraffer: Anaïs schreibt und veröffentlicht ihren ersten Song im Jahr 2021\, mitten im Studium\, wird entdeckt\, sichert sich ihren ersten Label-Deal\, dann erste Studio- Sessions\, weitere Releases folgen. Dann Auftritte als Support Act für Cro\, Nina Chuba\, Giant Rooks\, Provinz\, Features mit Bruckner\, oddworld\, Dominik Hartz\, MAJAN und vielen weiteren. Sie schreibt auf Französisch\, Englisch und Deutsch\, webt Sprachwitz und Tiefe multilingual zwischen die Zeilen. Damit trifft sie die Gefühle und Gedanken eines jungen internationalen Publikums\, zwischen Girls und Jungs\, Studium und Karriere\, Aufbruch und Heimweh. Anaïs macht Indie Pop mit Seele und Optimismus für wilde Herzen\, die sich und das Leben feiern\, mit allen Ups and Downs\, ohne schlechtes Gewissen. Das hier ist unser Film\, unsere Leinwand. Zeit für Dolce-Vita-Vibes und Großstadtgefühle\, Weiblichkeit und Empowerment. Sie liebt das Leben\, lebt Hedonismus\, aber lässt auch schweren Themen ihren Platz\, bis sie leicht werden und sich in seidenen Toplines auf sommerlichen Beats in Luft auflösen. \n 
URL:https://flex.at/event/anais/
CATEGORIES:Cafe Konzert,Cafe Party
ATTACH;FMTTYPE=image/jpeg:https://flex.at/wp-content/uploads/2025/12/w3840quality90fitscale-down-8.jpeg
END:VEVENT
BEGIN:VEVENT
DTSTART;TZID=Europe/Berlin:20260915T190000
DTEND;TZID=Europe/Berlin:20260915T230000
DTSTAMP:20260423T150341
CREATED:20251205T093951Z
LAST-MODIFIED:20260223T104401Z
UID:7367-1789498800-1789513200@flex.at
SUMMARY:NIZI19
DESCRIPTION:Nizi ist in West-Berlin aufgewachsen – vom Theodor-Heuss-Platz bis zur Bismarckstraße nennt er alles sein Zuhause. Mit einer Mischung aus komplexen Texten und eingängigen Beats schafft er es\, seine Hörer*innen auf eine Reise durch seine Gedanken und Gefühle mitzunehmen. Seine Musik ist geprägt von Ehrlichkeit\, Authentizität und persönlichen Erfahrungen\, die er in packende Tracks umwandelt. Nach Features mit Bonez MC („auf alles!“) und Paula Hartmann („Disney“) ist er 2025 vor allem als Teil der Rap-Formation „1019“ mit Lucio101\, Karamel19 und Omar101 aktiv. 2026 veröffentlicht er mit „RISIKEN & NEBENWIRKUNGEN“ wieder ein Solo-Album\, das ganz seine eigene Handschrift trägt und zeigt\, wie er sich über die Jahre als Künstler weiterentwickelt und seinen Stil gefestigt hat. Die dazugehörige Tour führt Nizi im September durch Deutschland\, Österreich und die Schweiz. \n 
URL:https://flex.at/event/nizi19/
CATEGORIES:Live
ATTACH;FMTTYPE=image/jpeg:https://flex.at/wp-content/uploads/2025/12/w3840quality90fitscale-down-2-1.jpeg
END:VEVENT
BEGIN:VEVENT
DTSTART;TZID=Europe/Berlin:20260922T190000
DTEND;TZID=Europe/Berlin:20260922T230000
DTSTAMP:20260423T150341
CREATED:20251203T081018Z
LAST-MODIFIED:20260223T104401Z
UID:7347-1790103600-1790118000@flex.at
SUMMARY:WITCHZ
DESCRIPTION:
URL:https://flex.at/event/witchz/
CATEGORIES:Live
ATTACH;FMTTYPE=image/jpeg:https://flex.at/wp-content/uploads/2025/12/bdbd53d4-26f1-4ffe-adfc-eca9a9855af9_EVENT_DETAIL_PAGE_16_9.jpeg
END:VEVENT
BEGIN:VEVENT
DTSTART;TZID=Europe/Berlin:20260924T190000
DTEND;TZID=Europe/Berlin:20260924T230000
DTSTAMP:20260423T150341
CREATED:20260327T095315Z
LAST-MODIFIED:20260327T095315Z
UID:7814-1790276400-1790290800@flex.at
SUMMARY:Average & Kayo 
DESCRIPTION:Average & Kayo  \nAverage und Kayo\, zwei feste Größen der österreichischen Rap-Landschaft\, bündeln 2026 erstmals ihre Kräfte und veröffentlichen ein gemeinsames Album\, das bereits jetzt als eines der spannendsten Projekte des Jahres gehandelt werden kann. Average\, der Linzer Rapper\, hat sich mit Mixtapes\, EPs und zahlreichen Kollaborationen als prägende Stimme des heimischen Hip-Hop etabliert. Kayo wiederum zählt zu den wichtigsten Vertretern des österreichischen Mundart-Raps und ist seit den 1990er-Jahren – sowohl solo als auch als Mitglied von Markante Handlungen – maßgeblich am Aufbau und an der Weiterentwicklung der Szene beteiligt. Beide sind auch Teil des Kollektivs TTR Allstars. \nGemeinsam schaffen die beiden Künstler ein Album\, das stilistisch zwischen klassischem Boombap und zeitgemäßen Produktionen pendelt. Mit Unterstützung des Who is who der Mundart-Rap-Szene entsteht ein vielseitiges Werk\, das gleichermaßen eingefleischte Hip-Hop-Fans wie Hörer aktueller Strömungen anspricht. Inhaltlich bewegt sich das Release zwischen persönlichen Geschichten und pointiertem Battlerap. \nBesonders Fans des Mundart-Raps dürfen sich freuen: Das Zusammenspiel aus Dialekt\, markanten Stimmen und abwechslungsreicher Produktion verleiht dem Album einen unverwechselbaren Charakter – und macht es zu einem potenziellen Anwärter auf das Mundartrap-Album des Jahres 2026.
URL:https://flex.at/event/average-kayo/
CATEGORIES:Cafe Konzert,Cafe Party
ATTACH;FMTTYPE=image/jpeg:https://flex.at/wp-content/uploads/2026/03/IG-FLEX-CAFE.jpeg
END:VEVENT
END:VCALENDAR