BEGIN:VCALENDAR
VERSION:2.0
PRODID:-//Flex - ECPv6.15.16//NONSGML v1.0//EN
CALSCALE:GREGORIAN
METHOD:PUBLISH
X-WR-CALNAME:Flex
X-ORIGINAL-URL:https://flex.at
X-WR-CALDESC:Veranstaltungen für Flex
REFRESH-INTERVAL;VALUE=DURATION:PT1H
X-Robots-Tag:noindex
X-PUBLISHED-TTL:PT1H
BEGIN:VTIMEZONE
TZID:Europe/Berlin
BEGIN:DAYLIGHT
TZOFFSETFROM:+0100
TZOFFSETTO:+0200
TZNAME:CEST
DTSTART:20250330T010000
END:DAYLIGHT
BEGIN:STANDARD
TZOFFSETFROM:+0200
TZOFFSETTO:+0100
TZNAME:CET
DTSTART:20251026T010000
END:STANDARD
BEGIN:DAYLIGHT
TZOFFSETFROM:+0100
TZOFFSETTO:+0200
TZNAME:CEST
DTSTART:20260329T010000
END:DAYLIGHT
BEGIN:STANDARD
TZOFFSETFROM:+0200
TZOFFSETTO:+0100
TZNAME:CET
DTSTART:20261025T010000
END:STANDARD
BEGIN:DAYLIGHT
TZOFFSETFROM:+0100
TZOFFSETTO:+0200
TZNAME:CEST
DTSTART:20270328T010000
END:DAYLIGHT
BEGIN:STANDARD
TZOFFSETFROM:+0200
TZOFFSETTO:+0100
TZNAME:CET
DTSTART:20271031T010000
END:STANDARD
END:VTIMEZONE
BEGIN:VEVENT
DTSTART;TZID=Europe/Berlin:20260709T190000
DTEND;TZID=Europe/Berlin:20260709T230000
DTSTAMP:20260423T120116
CREATED:20260224T111654Z
LAST-MODIFIED:20260224T111654Z
UID:7717-1783623600-1783638000@flex.at
SUMMARY:Harry Mack
DESCRIPTION:Beat the Fish presents Harry Mack \n\n\nMulti-talented artist and rapper Harry Mack is best known for his unique\, jaw-dropping visual freestyle rapping. He first came to fame when his Venice Beach Freestyle video went viral\, which propelled him to opportunities alongside the likes of Kendrick Lamar\, Joey Bada$$\, Soulja Boy\, Ellen DeGeneres\, Jennifer Hudson\, Complex Music\, RedBull Music\, and NBA on TNT. As a content creator\, his self-produced YouTube series have amassed millions of views. Harry has surprised\, impacted\, and entertained millions of people\, leaving them with something unique that they can’t wait to share with others. His content and live shows promote positivity and keep fans engaged through mind-blowing interactive performances. Harry’s background in jazz drumming is a reflection of his life-long fascination with improvisational music. His unique approach to hip-hop revolves around the spirit of rhythmic improv. Blending the excitement of instrumental jazz improvisation with the impactful messages of hip-hop lyricism\, Harry constantly strives to push the boundaries of his own abilities\, while reaching for new approaches to rap expression.
URL:https://flex.at/event/harry-mack/
CATEGORIES:Live
ATTACH;FMTTYPE=image/jpeg:https://flex.at/wp-content/uploads/2026/02/70502-20225-HarryMack-photo-2024-DSC02777-main-querformat-1280x660-1.jpeg
END:VEVENT
BEGIN:VEVENT
DTSTART;TZID=Europe/Berlin:20260722T190000
DTEND;TZID=Europe/Berlin:20260722T230000
DTSTAMP:20260423T120116
CREATED:20260410T054807Z
LAST-MODIFIED:20260410T054807Z
UID:7844-1784746800-1784761200@flex.at
SUMMARY:LOVEBITES
DESCRIPTION:LOVEBITES was formed in 2016 with vocalist Asami\, guitarists Midori and Miyako\, bassist Miho and drummer Haruna.In May 2017 LOVEBITES made their debut and released THE LOVEBITES EP through London’s JPU Records\, followed by full length album AWAKENING FROM ABYSS in October 2017 and had a series of shows in Japan and the UK. In 2018 LOVEBITES made their first festival appearance at Vans Warped Tour Japan 2018 Presented by XFLAG\, followed by performing at the world’s biggest metal festival Wacken Open Air in Germany and Bloodstock Open Air in the UK. \nIn January 2020\, the band released third album ELECTRIC PENTAGRAM. In August 2021 Miho left the band and it was announced that LOVEBITES would take a break. After a long selection process\, Fami joined the band in October of 2022. In February 2023\, the band released their 4th studio album JUDGEMENT DAY. From June 2024\, the band embarked on their first world tour. In March 2026\, their first performance at the Nippon Budokan is schedule
URL:https://flex.at/event/lovebites/
CATEGORIES:Live
ATTACH;FMTTYPE=image/jpeg:https://flex.at/wp-content/uploads/2026/04/IMG_0039.jpeg
END:VEVENT
END:VCALENDAR