BEGIN:VCALENDAR
VERSION:2.0
PRODID:-//Flex - ECPv6.15.16//NONSGML v1.0//EN
CALSCALE:GREGORIAN
METHOD:PUBLISH
X-ORIGINAL-URL:https://flex.at
X-WR-CALDESC:Veranstaltungen für Flex
REFRESH-INTERVAL;VALUE=DURATION:PT1H
X-Robots-Tag:noindex
X-PUBLISHED-TTL:PT1H
BEGIN:VTIMEZONE
TZID:Europe/Berlin
BEGIN:DAYLIGHT
TZOFFSETFROM:+0100
TZOFFSETTO:+0200
TZNAME:CEST
DTSTART:20250330T010000
END:DAYLIGHT
BEGIN:STANDARD
TZOFFSETFROM:+0200
TZOFFSETTO:+0100
TZNAME:CET
DTSTART:20251026T010000
END:STANDARD
BEGIN:DAYLIGHT
TZOFFSETFROM:+0100
TZOFFSETTO:+0200
TZNAME:CEST
DTSTART:20260329T010000
END:DAYLIGHT
BEGIN:STANDARD
TZOFFSETFROM:+0200
TZOFFSETTO:+0100
TZNAME:CET
DTSTART:20261025T010000
END:STANDARD
BEGIN:DAYLIGHT
TZOFFSETFROM:+0100
TZOFFSETTO:+0200
TZNAME:CEST
DTSTART:20270328T010000
END:DAYLIGHT
BEGIN:STANDARD
TZOFFSETFROM:+0200
TZOFFSETTO:+0100
TZNAME:CET
DTSTART:20271031T010000
END:STANDARD
END:VTIMEZONE
BEGIN:VEVENT
DTSTART;TZID=Europe/Berlin:20260606T190000
DTEND;TZID=Europe/Berlin:20260606T230000
DTSTAMP:20260423T103851
CREATED:20260210T100233Z
LAST-MODIFIED:20260223T104401Z
UID:7516-1780772400-1780786800@flex.at
SUMMARY:KRS-One
DESCRIPTION:KRS-One\nMY PHILOSOPHY EUROPEAN TOUR 2026 \nAfter decades of cultural influence and groundbreaking releases\, KRS-\nOne – The Teacha\, the architect of Boom-Bap and one of Hip-\nHop’s most powerful voices – is set to embark on a monumental\n40-city European Tour in 2026.\nThe My Philosophy Tour brings raw\, authentic Hip-Hop across\nFrance\, Germany\, Spain\, the Netherlands\, Switzerland\, Italy\,\nScandinavia\, Eastern Europe and more.\nAudiences can expect a powerful live experience featuring timeless\nclassics such as “Sound of da Police\,” “MC’s Act Like They Don’t\nKnow\,” “My Philosophy\,” and many more — delivered with the\nconsciousness\, energy and lyrical mastery that made KRS-One a global\nicon.\nThis is more than a concert.\nThis is knowledge\, culture and Hip-Hop in its purest form. \nPresented by Latfro Entertainment\, Ramp Ent. Agency & Master\nEntertainment.\nTickets & Tourdates: www.krs.latfro.com\nWhatsApp Ticket Hotline: +49 175 525 59 67\nKRS One Team Hotline: +1-646-KRS-4800\nE-mail: press@latfro.co
URL:https://flex.at/event/krs-one/
CATEGORIES:Live
ATTACH;FMTTYPE=image/png:https://flex.at/wp-content/uploads/2026/02/KRS-ONE-MY-PHILOSOPHY-TOUR-COVER.png
END:VEVENT
BEGIN:VEVENT
DTSTART;TZID=Europe/Berlin:20260609T190000
DTEND;TZID=Europe/Berlin:20260609T230000
DTSTAMP:20260423T103851
CREATED:20260224T073424Z
LAST-MODIFIED:20260224T073424Z
UID:7700-1781031600-1781046000@flex.at
SUMMARY:Set It Off
DESCRIPTION:Mind over Matter presents Set It Off \n\n\nIt’s fitting that Set It Off’s first ever independent album is their most furious. Since taking back control of their band\, vocalist Cody Carson\, drummer Maxx Danziger and guitarist Zach DeWall have sold out headline tours globally and become mainstays on rock radio charts with the likes of ‘Punching Bag’\, ‘Fake Ass Friends’\, ‘Evil People’ and ‘Wolf In Sheep’s Clothing [REBORN]’. Filled with rage and bursting with new ideas\, the band’s new era brings a self-titled hard rock album laden with huge riffs\, bigger breakdowns and the band’s now signaturestratospheric choruses. It breaks thrilling\, heavy new ground for Set It Off and signals the start of something spectacular. Do not miss this on the way up.
URL:https://flex.at/event/set-it-off/
CATEGORIES:Live
ATTACH;FMTTYPE=image/jpeg:https://flex.at/wp-content/uploads/2026/02/70640-20267-SET-IT-OFF-2025-2000px-CREDIT-@s_h_u_r-querformat-1280x660-1.jpeg
END:VEVENT
BEGIN:VEVENT
DTSTART;TZID=Europe/Berlin:20260611T190000
DTEND;TZID=Europe/Berlin:20260611T230000
DTSTAMP:20260423T103851
CREATED:20250808T061540Z
LAST-MODIFIED:20260223T104431Z
UID:6962-1781204400-1781218800@flex.at
SUMMARY:Audio88 & Yassin
DESCRIPTION:Liebe Fans\,\ndie Entscheidung fiel uns alles andere als leicht\, aber wir müssen die NEUES ALBUM 2025 TOUR leider auf nächstes Jahr verschieben.\nLasst es uns ehrlich und transparent erklären: Unser neues Album ist zu 90% fertig und euch erwartet ungelogen unsere beste und längste Platte seit langem. Aber genau deshalb hat sie auch mehr Zeit in Anspruch genommen als geplant. Gleichzeitig steht die Tour so nah vor der Tür\, dass wir uns klonen müssten\, um dieses Spektakel so vorzubereiten\, dass es für euch wie jedes Mal ein unvergesslicher Abend wird. Wir sind immer noch eine Zwei-Mann-Armee\, zwar mit einem tollen Team\, aber ohne Management und Label-Support im Rücken. Leider haben wir dieses Mal unsere persönlichen Grenzen des Machbaren erreicht\, das müssen wir uns und auch euch ehrlich eingestehen.\nUm euch unser bestes Album UND eine Tour geben zu können\, die diesem Album und unseren Ansprüchen auch gerecht wird\, haben wir uns schweren Herzens für eine Verschiebung entschieden. Wir wünschten\, es wäre anders und hätten euch gerne beides noch dieses Jahr präsentiert.\nDanke für euer Verständnis und dass ihr nach über 15 Jahren immer noch dabei bleibt und Indie-Artists wie uns supportet. Wir schwören\, wir werden euch nicht enttäuschen!”
URL:https://flex.at/event/audio88-yassin/
CATEGORIES:Live
ATTACH;FMTTYPE=image/jpeg:https://flex.at/wp-content/uploads/2025/08/Audio88-Yassin-neues-album-tour-2025-m.jpeg
END:VEVENT
BEGIN:VEVENT
DTSTART;TZID=Europe/Berlin:20260615T190000
DTEND;TZID=Europe/Berlin:20260615T230000
DTSTAMP:20260423T103851
CREATED:20260409T125111Z
LAST-MODIFIED:20260409T125111Z
UID:7839-1781550000-1781564400@flex.at
SUMMARY:I Killed The Prom Queen
DESCRIPTION:I Killed The Prom QueenHeadliner\nDying WishSupport\nI Killed the Prom Queen gehören zu den einflussreichsten Vertretern der australischen Metalcore-Szene und haben seit ihrer Gründung Anfang der 2000er Jahre internationale Aufmerksamkeit erlangt. Mit ihrer intensiven Mischung aus kompromisslosen Breakdowns\, melodischen Gitarrenläufen und emotional aufgeladenem Gesang prägte die Band maßgeblich den Sound einer ganzen Generation.
URL:https://flex.at/event/i-killed-the-prom-queen/
CATEGORIES:Live
ATTACH;FMTTYPE=image/jpeg:https://flex.at/wp-content/uploads/2026/04/IMG_0038.jpeg
END:VEVENT
BEGIN:VEVENT
DTSTART;TZID=Europe/Berlin:20260616T190000
DTEND;TZID=Europe/Berlin:20260616T230000
DTSTAMP:20260423T103851
CREATED:20251202T095916Z
LAST-MODIFIED:20260223T104430Z
UID:7265-1781636400-1781650800@flex.at
SUMMARY:Touché Amor
DESCRIPTION:Mind over Matter presents Touché Amoré Stage Four 10 Year Anniversary \n\n\nFor more than a decade\, L.A. phenoms Touché Amoré have been a driving force as vanguards of the contemporary hardcore scene. Over the years\, and across their discography\, the band has probed and navigated anxiety\, isolation\, illness\, and grief. Now a bedrock of post-hardcore\, Touché Amoré have never stopped looking forward. Their latest work\, the deeply-felt Spiral in a Straight Line\, continues on the trajectory of innovation\, transformation\, and reflection\, translating lived experiences into a broadly resonant record that continues to explore new sonic territory for the band. It’s a reckoning with monumental change — an evocative result of internal and external turbulence. \nThe band’s second time working with renowned — and notorious\, lore-ridden — producer Ross Robinson (At the Drive-In\, Slipknot\, Glassjaw)\, Spiral in a Straight Line revels in discomfort. This ongoing collaboration marks a new dimension of complexity as Touché Amoré further push the boundaries of their sound while delving further into their emotional core. A deft\, dynamic creative unit at this stage in their storied career\, the band wields intimacy with steady hands and exhibits new mastery over their relentlessly expressive sonics. As ever\, they are in equal measure deliberate and impassioned. \nAn unraveling of tangled wires — ropes\, threads\, knots of all kinds — occurs here\, in the effort of perspective otherwise not found. The spiral is interiority caught in a loop of anxiety\, its straight line is the attempt to keep composure when all feels as though it is falling apart. It’s intensely personal. And yet a universal conceit: What happens when you’re trying to keep it together for appearances’ sake\, even when you feel you’re coming undone at the seams. \nPrincipal lyricist Jeremy Bolm\, guitarists Nick Steinhardt and Clayton Stevens\, bassist Tyler Kirby\, and drummer Elliot Babin\, each came to the practice space and studio with vastly different evolutions at play. In the process of crafting Spiral in a Straight Line\, they melded — in the same\, but different\, way Touché Amoré have for their now over a decade-long stint. There was something in the air the whole crew tapped into\, during the second rainiest season on record in LA. The songs flowed more freely\, they delved deeper than ever. With a new level of intimacy in Steinhardt’s home practice space combined with the return to Robinson’s mining of emotion\, Touché Amoré reach a tier of fervency that marks an ecstatic turn in the band’s pages. \n“As I fixate on the road ahead It just winds and winds and winds and winds\,” Bolm wails in the outro of the record’s lead track\, “Nobodys” — whose narrator is a “character” wishing to chalk it all up to performance\, who proclaims that sometimes life just doesn’t make any sense at all. It’s the first time in the band’s history that Bolm takes on these twisting lyrical and vocal traits\, an apt mirroring of the album’s thematic whole. \nThese vocal spirals are as intentional as the visuals constructed for Spiral in a Straight Line\, helmed by Steinhardt. The group’s seasoned art director\, Steinhardt has been conceiving graphics for Touché Amoré’s tenure\, based on Bolm’s lyrics as well as the sonic palette of each album. It’s greener this time around: a fresh start\, perhaps\, a space that considers the recent past and leaves it behind at the same time. And it’s in motion — each piece in turn referring to the scroll-like shape of a film reel and its unfurling. The language of film\, its simultaneous flatness and depth\, linear yet round\, wound into itself. \nOn marquee track “Hal Ashby” is where these ideas converge most tightly. A nod to the director of Being There and Harold and Maude\, the song is inspired by Ashby’s misunderstood characters; the tragedy of miscommunication\, the tricks you play on yourself to convince you you’re right when\, maybe\, there’s some big thing you’re missing. A “rose-tinted view\,” a “fools’ errand\,” a “red herring.” The song itself is romantic\, sonically and lyrically\, in the way it feels to see things in a certain light\, and then be course corrected — as Bolm sings — recalibrated by a force out of your control. \nWhat it takes to change is often not what you saw in your toolbelt. Sometimes\, suddenly\, everything is unfamiliar. A longtime favorite song of Bolm’s was following him\, again — Sebadoh’s “Brand New Love.” It’s a song about finding love in an unexpected place. And Bolm found that the chorus of this Sebadoh song from 1990 fit perfectly over the outro of a song he was writing\, which became “Subversion.” Bolm\, in his words\, “understood the brazen request” and asked Lou Barlow if he might sing over it — and he did. The languid\, melancholic song questions progress\, the very concept of past and future\, all while listening to Barlow’s song playing as Bolm touches down in Adelaide. And then there’s Barlow on the outro\, his words of new love complicating it all. \nJulien Baker\, now based in LA\, joined the band in the studio for the first time\, after two previous features. Baker’s voice\, gentle as a companion to Bolm’s\, sings of catching fire and burning brighter\, on album closer “Goodbye For Now.” The two harmonize — about trying to “Find new ways to not fall away\,” self-forgiveness\, washing away of guilt. \n“Another day repeats\,” goes “Mezzanine\,” Spiral in a Straight Line’s central and most pummeling track. Here\, everything swirls up and burns out at once\, a thesis on what it means to try to survive the normalcy and strangeness of entering a life that is both new and not new. “A tire fire happening internally\,” Bolm howls. Each thread of the record coils up in this idea: going through routines but in thin air; keeping up through raindrops; multiplying demons and fence-sitting; dead of new days; a spiral in a straight line; will I get used to this? \nLinear and circular at the same time\, Spiral in a Straight Line is concerned with the fear and trepidation that accompanies shifts out of one’s control. The anxiety of a circle broken: how you figure your way out.
URL:https://flex.at/event/touche-amor/
CATEGORIES:Live
ATTACH;FMTTYPE=image/jpeg:https://flex.at/wp-content/uploads/2025/12/68785-19266-250707_TOUCHE-02_RT-querformat-1280x660-1.jpeg
END:VEVENT
BEGIN:VEVENT
DTSTART;TZID=Europe/Berlin:20260620T190000
DTEND;TZID=Europe/Berlin:20260620T230000
DTSTAMP:20260423T103851
CREATED:20260202T063549Z
LAST-MODIFIED:20260223T104401Z
UID:7500-1781982000-1781996400@flex.at
SUMMARY:IMMORTAL DISFIGUREMENT (usa) + GUTRECTOMY
DESCRIPTION:Metalnight Outbreak proudly presents\nIMMORTAL DISFIGUREMENT (usa) + GUTRECTOMY (ger)\nLine Up\n– Immortal Disfigurement– Gutrectomy– Throwback – Manifested Marks– Darkest Moral\nVVK 28
URL:https://flex.at/event/immortal-disfigurement-usa-gutrectomy/
CATEGORIES:Live
ATTACH;FMTTYPE=image/jpeg:https://flex.at/wp-content/uploads/2026/02/IMG_0023.jpeg
END:VEVENT
BEGIN:VEVENT
DTSTART;TZID=Europe/Berlin:20260621T190000
DTEND;TZID=Europe/Berlin:20260621T230000
DTSTAMP:20260423T103851
CREATED:20260323T093842Z
LAST-MODIFIED:20260323T093842Z
UID:7783-1782068400-1782082800@flex.at
SUMMARY:DON BROCO
DESCRIPTION:Mind over Matter presents DON BROCO \n\n\nDON BROCO are a band that constantly defy categorization. Since forming in 2008\, the English act—vocalist Rob Damiani\, guitarist Simon Delaney\, bassist Tom Doyle and drummer/vocalist Matt Donnelly—have been creating innovative music that effortlessly merges elements of metal\, post-hardcore\, and electronica\, into a unique amalgam of music all their own. “I love being surprised and I love music taking turns that you wouldn’t expect\,” Damiani explains. “When you’re writing a song you have a million options and it’s always the paths that lead somewhere unexpected that get me the most excited.” While this flair for experimentation has always been a hallmark of DON BROCO’s sound\, the band’s Fearless Records debut Spiral Staircase sees the quartet creating the heaviest and most nuanced album of their career. It also illustrates why the band have sold out venues like Wembley Arena and Alexandra Palace in the UK; performed to frenzied crowds at Download and Reading & Leeds Festival; headlined Slam Dunk Festival; and toured alongside Pierce The Veil\, Bring Me The Horizon and 30 Seconds To Mars.
URL:https://flex.at/event/don-broco/
CATEGORIES:Live
ATTACH;FMTTYPE=image/jpeg:https://flex.at/wp-content/uploads/2026/03/71239-20595-DSC09793-v2-querformat-1280x660-1.jpeg
END:VEVENT
BEGIN:VEVENT
DTSTART;TZID=Europe/Berlin:20260622T190000
DTEND;TZID=Europe/Berlin:20260622T230000
DTSTAMP:20260423T103851
CREATED:20260318T103618Z
LAST-MODIFIED:20260318T103618Z
UID:7769-1782154800-1782169200@flex.at
SUMMARY:Destroy Boys
DESCRIPTION:
URL:https://flex.at/event/destroy-boys/
CATEGORIES:Live
ATTACH;FMTTYPE=image/jpeg:https://flex.at/wp-content/uploads/2026/03/71176-20585-DeBo-Press-Shot-2025-querformat-1280x660-1.jpeg
END:VEVENT
BEGIN:VEVENT
DTSTART;TZID=Europe/Berlin:20260623T190000
DTEND;TZID=Europe/Berlin:20260623T230000
DTSTAMP:20260423T103851
CREATED:20260213T092003Z
LAST-MODIFIED:20260223T104401Z
UID:7528-1782241200-1782255600@flex.at
SUMMARY:Drowning Pool
DESCRIPTION:
URL:https://flex.at/event/drowning-pool/
CATEGORIES:Live
ATTACH;FMTTYPE=image/jpeg:https://flex.at/wp-content/uploads/2026/02/70416-20191-DP-2025-querformat-1280x660-1.jpeg
END:VEVENT
BEGIN:VEVENT
DTSTART;TZID=Europe/Berlin:20260626T230000
DTEND;TZID=Europe/Berlin:20260626T230000
DTSTAMP:20260423T103851
CREATED:20260423T063837Z
LAST-MODIFIED:20260423T063837Z
UID:7874-1782514800-1782514800@flex.at
SUMMARY:Überdruck Soundsystem
DESCRIPTION:One of our crew members/acts is celebrating his 30th birthday (a few days early). We want to celebrate properly and have therefore invited Big Maschines (from Germany) and Blazin Bomzai (from Belgium) as special acts. See you on the Flex Main Floor!Checkout a Big Maschines (aka Deep District) set: https://soundcloud.com/zahni_live/deepdistrict\nLINEUP:Big Maschines – live\,DE [aka Corespondent – Geehee – Clyde]Blazin Bomzai – live\,BE Phat Otiz Apocalypz – live [Überdruck]Foatwenti3 – live [Überdruck]Soda [Xindl/Paxnicht]\nMain Floor Soundsystem Power: (https://flex.at/technik/)30+ kW RMS. Alcons Q‑Series + BC543 + Basshörner powered by Sentinel & Lab Gruppen.\nMerchandise:cats.r.ql – cats are cool  (https://catsrql.company.site)\nTimetable:TBA\nFacts:Wo? – FLEX\, Freda Meissner Blau Promenade\, Donaukanal\, Vorkai\, AugartenbrückeA-1010 WienWann? – Samstag 26.06.2026 – Start: 23:00Eintritt? – 15€ (Cash Only)Rauch & Chill Terrasse Outdoor
URL:https://flex.at/event/ueberdruck-soundsystem/
CATEGORIES:Club
ATTACH;FMTTYPE=image/jpeg:https://flex.at/wp-content/uploads/2026/04/675934428_960880713194667_5238634287597137856_n.jpeg
END:VEVENT
BEGIN:VEVENT
DTSTART;TZID=Europe/Berlin:20260630T190000
DTEND;TZID=Europe/Berlin:20260630T230000
DTSTAMP:20260423T103851
CREATED:20260219T072617Z
LAST-MODIFIED:20260223T104401Z
UID:7663-1782846000-1782860400@flex.at
SUMMARY:Don West
DESCRIPTION:EU & UK Tour 2026“\npresented by Radio Superfly \nDon West aus Australien reitet die Welle des globalen Soul-Revivals – und zwar mit Bravour. Der Künstler aus dem sonnigen Sydney prägt dabei seine ganz eigene\, als „coastal soul“ bezeichnete Interpretation: warm\, zeitlos und zugleich erfrischend modern. Seine Einflüsse reichen von Legenden wie Marvin Gaye und Curtis Mayfield bis hin zu zeitgenössischen Acts wie Jalen Ngonda oder Thee Sacred Souls – eine Mischung\, die sich in seinem Sound ebenso respektvoll wie selbstbewusst widerspiegelt. 🧡 Tickets gibt es ab 19.02.2026\, 12 Uh
URL:https://flex.at/event/don-west/
CATEGORIES:Live
END:VEVENT
END:VCALENDAR