BEGIN:VCALENDAR
VERSION:2.0
PRODID:-//Flex - ECPv6.15.16//NONSGML v1.0//EN
CALSCALE:GREGORIAN
METHOD:PUBLISH
X-WR-CALNAME:Flex
X-ORIGINAL-URL:https://flex.at
X-WR-CALDESC:Veranstaltungen für Flex
REFRESH-INTERVAL;VALUE=DURATION:PT1H
X-Robots-Tag:noindex
X-PUBLISHED-TTL:PT1H
BEGIN:VTIMEZONE
TZID:Europe/Berlin
BEGIN:DAYLIGHT
TZOFFSETFROM:+0100
TZOFFSETTO:+0200
TZNAME:CEST
DTSTART:20250330T010000
END:DAYLIGHT
BEGIN:STANDARD
TZOFFSETFROM:+0200
TZOFFSETTO:+0100
TZNAME:CET
DTSTART:20251026T010000
END:STANDARD
BEGIN:DAYLIGHT
TZOFFSETFROM:+0100
TZOFFSETTO:+0200
TZNAME:CEST
DTSTART:20260329T010000
END:DAYLIGHT
BEGIN:STANDARD
TZOFFSETFROM:+0200
TZOFFSETTO:+0100
TZNAME:CET
DTSTART:20261025T010000
END:STANDARD
BEGIN:DAYLIGHT
TZOFFSETFROM:+0100
TZOFFSETTO:+0200
TZNAME:CEST
DTSTART:20270328T010000
END:DAYLIGHT
BEGIN:STANDARD
TZOFFSETFROM:+0200
TZOFFSETTO:+0100
TZNAME:CET
DTSTART:20271031T010000
END:STANDARD
END:VTIMEZONE
BEGIN:VEVENT
DTSTART;TZID=Europe/Berlin:20260501T230000
DTEND;TZID=Europe/Berlin:20260501T230000
DTSTAMP:20260421T093019
CREATED:20260409T091014Z
LAST-MODIFIED:20260409T091014Z
UID:7833-1777676400-1777676400@flex.at
SUMMARY:PIRATES AT THE DANUBE
DESCRIPTION:PIRATES AT THE DANUBE \n KALA  KLANGMASSAKER  ALPHA  SABSUNSHINE  CAMSIS  INSANO PINOCIO \n DEKO by TRIP MECHANICS \nNach der Party ist ja bekanntlich vor der Party\, genau aus diesem Grund geht es heuer nach der legendären “1. Mai Free Party” von Zero Gravity Vienna am Vienna City Beach Club\, direkt von der Donau an den Donaukanal ins Flex.\n– – – – – – – – – – – – – – – – – – – – – – – –►► DATUMFREITAG 01.05.2026Start: 23:00– – – – – – – – – – – – – – – – – – – – – – – –\n– – – – – – – – – – – – – – – – – – – – – – – – LINEUP – psychedelic / darkpsy / forest / –– – – – – – – – – – – – – – – – – – – – – – – –► KALA (Forestdelic Rec.)https://soundcloud.com/kala\n► KLANGMASSAKER (Soundlab Pirates)https://soundcloud.com/klangmassaker\n► SABSUNSHINE (Soundlab Pirates)https://soundcloud.com/sabsunshine\n► ALPHA (Blackout Rec)https://soundcloud.com/gaggalacka/alpha-gaggalacka-25\n► CAMSIS (Soundlab Pirates / Vantara Vichitra Rec)https://soundcloud.com/camsis\n► INSANO (Soundlab Pirates / Vantara Vichitra Rec)https://soundcloud.com/manuelinsano\n► PINOCIO (Soundlab Pirates)\n– – – – – – – – – – – – – – – – – – – – – – – – VISUAL CONCEPT – – – – – – – – – – – – – – – – – – – – – – – –► TRIP MECHANICS https://www.facebook.com/Sunshadestructures\n– – – – – – – – – – – – – – – – – – – – – – – – SOUNDSYSTEM – – – – – – – – – – – – – – – – – – – – – – – –► Alcons Audio – by Pro Performance Sound\n– – – – – – – – – – – – – – – – – – – – – – – –►► LOCATION:– – – – – – – – – – – – – – – – – – – – – – – –FLEX WIEN\,Augartenbrücke 1\, 1010 WienÖffentliche Verkehrsmittel:U Bahn: U1 Schwedenplatz\, U2 SchottenringStraßenbahn: Linie 1\, Linie 31ca. 5 -10 Minuten Gehweg von den Stationen\nVienna City Beach Club -> FLEX U2 Donaustadtbrücke -> U2 Schottenring 12 Minuten Fahrzeit\n– – – – – – – – – – – – – – – – – – – – – – – –►► ENTRY– – – – – – – – – – – – – – – – – – – – – – – –Limited VVK: Eventjet15€ (+VVK Gebühren) (bis 30.4. 18:00)Ticketlink:https://shop.eventjet.at/…/297b7913-877c-4b33-a790…\nAT THE GATE:– 20€ all night long (CASH & CARD)\nFree Entry für Geburtstagskinder mit Ausweis (01. & 02.05)!– An der Bar kann man seine Getränke auch mit Karte zahlen!\n– – – – – – – – – – – – – – – – – – – – – – – –►► Day-Time Rave @ Vienna City Beach Club by ZERO GRAVITY VIENNA– – – – – – – – – – – – – – – – – – – – – – – –Eventlink:https://www.facebook.com/events/1240349327972190\n\n See you on the Trancefloor
URL:https://flex.at/event/pirates-at-the-danube/
CATEGORIES:Club
ATTACH;FMTTYPE=image/jpeg:https://flex.at/wp-content/uploads/2026/04/IMG_0036.jpeg
END:VEVENT
BEGIN:VEVENT
DTSTART;TZID=Europe/Berlin:20260506T190000
DTEND;TZID=Europe/Berlin:20260506T230000
DTSTAMP:20260421T093019
CREATED:20251119T072447Z
LAST-MODIFIED:20260224T091659Z
UID:7192-1778094000-1778108400@flex.at
SUMMARY:Tropikel Ltd
DESCRIPTION:Tropikel Ltd. liefern impulsive Synthie-Pop-Klänge. Inspiriert vom Sound der 80er Jahre\nerschaffen sie eine Soundästhetik mit authentischen Synth-Pop-\, Hi-NRG- & Italo DiscoReferenzen und einem zeitgenössischen Twist – mal sehr treibend\, mal sehr zärtlich.\nIhre Songs erzählen von den brennenden Gefühlen körperlicher und emotionaler\nAnziehungskraft. Mit einem Gefühl von Leichtigkeit und unter Dauerbeschuss durch Amor\nheizen sie mit hohem Tempo durch eine Welt\, die sich schneller dreht als jeder Autoreifen.\nUnter anderem mit Songs wie “Puls 1000”\, “Immer Sommer”\, “Achtung Fragile”\, “Tempo”\nund „Kreislauf“ sammelte die dreiköpfige Band bereits über 20 Millionen Spotify-Streams.\nMit den EPs “Achtung Fragile” und “Quality” haben sich „Tropikel Ltd.“ als eigenständige\nStimme in der deutschen Poplandschaft etabliert. 2026 werden sie ihre zweite HeadlinerTour spielen
URL:https://flex.at/event/tropikel-ltd/
CATEGORIES:Cafe Konzert,Cafe Party
ATTACH;FMTTYPE=image/jpeg:https://flex.at/wp-content/uploads/2025/11/Tropikel-Betriebstemperatour-2026-tickets-c-Julia-Tiemann-m.jpeg
END:VEVENT
BEGIN:VEVENT
DTSTART;TZID=Europe/Berlin:20260508T190000
DTEND;TZID=Europe/Berlin:20260508T230000
DTSTAMP:20260421T093019
CREATED:20260417T083100Z
LAST-MODIFIED:20260417T085808Z
UID:7859-1778266800-1778281200@flex.at
SUMMARY:LAKMANN
DESCRIPTION:Lakmann One kommt am 08.05 ins Wiener Flex Cafe! Mit dabei @el9six und @tonirocksta \,Vienna stand up! Tickets in Bio #lakmann #wien #vienna #50yearsofhiphop #rapambogen
URL:https://flex.at/event/lakmann/
CATEGORIES:Cafe Konzert,Cafe Party
ATTACH;FMTTYPE=image/jpeg:https://flex.at/wp-content/uploads/2026/04/654805238_18345172039240190_5467425097389522619_n.jpeg
END:VEVENT
BEGIN:VEVENT
DTSTART;TZID=Europe/Berlin:20260509T230000
DTEND;TZID=Europe/Berlin:20260509T230000
DTSTAMP:20260421T093019
CREATED:20260316T152112Z
LAST-MODIFIED:20260316T152112Z
UID:7758-1778367600-1778367600@flex.at
SUMMARY:THE HIVE
DESCRIPTION:A.M.C feat. MC Phantom EL PABLO SKIYE\nConstruct 5HA5H b2b TYO DnBreak\nEarly Bird: 18€ Phase 1: 21€ Phase 2: 23€\nAbendkassa (price at the door): 25€
URL:https://flex.at/event/the-hive/
CATEGORIES:Cafe Party,Club
ATTACH;FMTTYPE=image/jpeg:https://flex.at/wp-content/uploads/2026/03/651143835_1569293614621597_3823612892206779660_n.jpg
END:VEVENT
BEGIN:VEVENT
DTSTART;TZID=Europe/Berlin:20260514T190000
DTEND;TZID=Europe/Berlin:20260514T230000
DTSTAMP:20260421T093019
CREATED:20251203T075804Z
LAST-MODIFIED:20260223T104429Z
UID:7338-1778785200-1778799600@flex.at
SUMMARY:AVAION
DESCRIPTION:As a teenager\, AVAION had a dream – a dream of a gold record that\, in his mind\, he had already assigned its very own spot on the wall of his children’s room. Twelve years later\, this wish came true when he was honored with the platinum award for his debut single “Pieces”\, which has been streamed millions of times and heralded the German songwriter and multi-instrumentalist’s breakthrough as one of the most exciting and promising young stars of the international electronic music scene at the end of 2019. For the meanwhile 28-year-old\, this is just the beginning of his journey – as he makes clear to us below! “Pieces” most recently scored certified gold status in Germany\, Hungary\, Slovakia\, Poland\, Austria\, Platinum in Switzerland and double Platinum in South Africa. Avaions music style: Electric and experimental in equal measure\, these tracks were a mix of drum & bass\, dubstep\, ambient and electronica\, and these influences can still be heard in his distinctive signature sound. AVAION doesn’t want to be tied to a single genre; instead\, he combines electronic beats with organic elements\, melancholic harmonies and soulful vocals to form an instantly recognizable mix that has helped him establish a global fan base in a very short period of time. AVAION expands his distinctive mix of electronic\, danceable beats and atmospheric\, melancholic sounds even further. Music for dancing and for dreaming\, depending on how you’re feeling\, is how AVAION describes his style in his own words. “Pieces” has been created during a diﬃcult and depressing period in my life\,” says AVAION as he reflects on his big breakthrough hit. “I was very unhappy at the time\, and every day I would sit with my eyes glued to my computer screen after my late shift\, trying to come up with new tracks. I was desperate to find a way out of this situation. ‘Pieces’ is about those times when you literally fall into a thousand pieces…” – and it is a track that was to fundamentally change AVAION’s life: The various versions of “Pieces” now have a combined total of over 250 million streams. AVAION delights and inspires up to 5 million listeners on Spotify. Until now AVAIONS tracks have been streamed over 850 million times. AVAION built his very own world of sound\, which he regularly invites his fans to be a part of with celebrated hit singles like “Sleepless” (in collaboration with Nu Aspect\, Paul Wetz and Yuma)\, “Numb” (together with Goodboys) “Broken”\, “Hope”\, “I Don’t Know Why”\, “Love again”\, “Other Side” (together with BUNT.) AVAION’s tracks go down just as well in sweat-soaked nightclubs as they do in front of 100\,000 enthusiastic festival-attendees. AVAION started the year with a strong and powerful collaboration with the kenyan queen of toplines Sofiya Nzau (voice of the global hit “Mwaki” feat. Zerb) for their joint single “Wacuka” and has some hot collaborations with various dance record labels for 2025. “Wacuka” is a lively track that seamlessly combines african rhythms with electronic\, emotional beats that AVAION is known for. Support comes from none other than Martin Garrix\, Showtek\, Lucas + Steve and Plastik Funk and superstars such as Calvin Harris\, Marshmallow and &me (Keine Musik) have also reached out to AVAION directly\, praising his debut album “Selfreflection” and wanting to include Wacuka in their sets. And now\, the next big single is on its way — SAVE MY LOVE. A powerful collaboration with Marshmello and Ellie Goulding that’s set to make waves. Combining their unique sounds and the amazing voice of Ellie\, this release is set to be one of the highlights of the year\, oﬀering fans a blend of deep emotion\, powerful production\, and global hit potential. But that’s not all. In addition to this great collaboration\, AVAION is set to release his second studio album later this year. Packed with emotional depth\, signature sound design\, and fresh creative direction\, the album marks another major milestone in his musical journey. Beside the steady creation of new songs AVAION’s other passion is to get in direct touch with his fans. In past few years he joined many of the famous festivals like “Sonne Mond & Sterne” “Parookaville” and\, “Electric Love”\, Frequency Festival and European top-clubs like the legendary “Bootshaus” in Cologne. Known for his energetic live performances that captivate audiences\, he has successfully toured major cities across Europe\, thrilling fans with his powerful stage presence. His debut tour\, “For The Vibes”\, in 2024 was completely sold out—just like his follow-up tour\, “You Are Seen” in 2025 \, which also played to packed venues across europe. Fans can already look forward to more unique shows with AVAION\, as he continues his journey through Europe this summer with performances at various festivals and clubs. \n 
URL:https://flex.at/event/avaion/
CATEGORIES:Live
ATTACH;FMTTYPE=image/jpeg:https://flex.at/wp-content/uploads/2025/12/w3840quality90fitscale-down-7.jpeg
END:VEVENT
BEGIN:VEVENT
DTSTART;TZID=Europe/Berlin:20260515T230000
DTEND;TZID=Europe/Berlin:20260515T230000
DTSTAMP:20260421T093019
CREATED:20260408T054022Z
LAST-MODIFIED:20260408T054022Z
UID:7827-1778886000-1778886000@flex.at
SUMMARY:Cybertribe & Misguided pres. TARKNO \, GRACE DAHL  & DLV
DESCRIPTION:Cybertribe & Misguided pres. TARKNO (AUS)\, GRACE DAHL (AMS) & DLV (BLN/VIE) @Flex\, Vienna  \nIt’s happening. Berlin-based underground label Misguided teams up with Vienna’s forward-thinking collective Cybertribe at one of the city’s most iconic venues. At Flex\, known for its legendary soundsystem and raw\, industrial atmosphere\, they present a line-up that fully matches the setting. \nIn Vienna for the first time ever: Tarkno embodies the essence of true techno culture through his meticulously executed vinyl-only sets. Performing with multiple turntables in esteemed venues across the globe\, he showcases a versatility that pays homage to decades of electronic music. \nReturning to the city: Amsterdam based Grace Dahl is best known for her emotive yet driving techno sound. A Vault Sessions resident and regular at institutions like Berghain and Awakenings\, she combines powerful\, immersive productions with high-impact DJ sets. With Releases on high-profile imprints such as Amelie Lens’s Exhale and Frenzy Recordings she fully cemented her place among techno’s elite talents. \nLocally supported by: Misguided label head DLV\, a well-established\, long running name in Vienna’s techno scene who has been innovating himself and pushing boundaries constantly as well as CYBERTRIBE’s power duo AVO2X B2B ENJA and rising resident VOLTMARIE. \nLine Up: \nTARKNO (AUS) [VINYL ONLY SET] \nGRACE DAHL (AMS) \nDLV (MISGUIDED) [VINYL ONLY SET] \nVOLTMARIE (CYBERTRIBE) \nAVO2X B2B ENJA (CYBERTRIBE) \nDetails: \n📅 15.05.2026 \n📍 Flex\, Augartenbrücke 1\, Vienna \n🎟 Ticket link in bio \nNo sexism\, racism\, homophobia\, transphobia or any form of disrespect will be tolerated. \nRespect each other and the space. \nArtwork @Tobiasraschbacher
URL:https://flex.at/event/cybertribe-misguided-pres-tarkno-grace-dahl-dlv/
CATEGORIES:Club
ATTACH;FMTTYPE=image/jpeg:https://flex.at/wp-content/uploads/2026/04/IMG_0033.jpeg
END:VEVENT
BEGIN:VEVENT
DTSTART;TZID=Europe/Berlin:20260518T190000
DTEND;TZID=Europe/Berlin:20260518T230000
DTSTAMP:20260421T093019
CREATED:20251210T053721Z
LAST-MODIFIED:20260223T104401Z
UID:7371-1779130800-1779145200@flex.at
SUMMARY:GREGOR HÄGELE
DESCRIPTION:GREGOR HÄGELE 2026 geht es für Gregor Hägele auf „TOUR\, WAS DU NICHT LASSEN KANNST“. Köln\, 07.10.2025 – Was du nicht lassen kannst? Ganz einfach: bei dieser Tour fehlen. Denn Gregor Hägele geht im Mai 2026 endlich wieder auf die Bühne – und diesmal richtig. Mit „TOUR\, WAS DU NICHT LASSEN KANNST“ Elf Shows\, voller Energie\, die ansteckt. Mit der Stimme\, die dich sofort packt. Mit einer Präsenz\, die jeden Raum größer macht. Wer Gregor live erlebt\, weiß: das vergisst man nicht. Tickets sind ab Mittwoch\, 08.10.2025\, 10 Uhr im exklusiven CTS Eventim Presale erhältlich \nNachdem der gebürtige Schwabe 2025 keine eigene Tour gespielt\, sondern nur Sommer-Shows und Support- Slots bei Acts wie Rea Garvey\, Philipp Dittberner oder Unheilig\, geht’s jetzt wieder voll los – mit einer neuen Show\, neuen Songs und vielleicht sogar einem neuen Album. Songs wie „MAMA\, HATTE IMMER RECHT“ und „SHOOT SHOOT SHOOT“ haben nach seinem Top 10 Album „Prototyp Liebe“ die neue\, zweite Ära bereits eröffnet. Der Dresscode? Weißes Hemd. Schwarze Krawatte. Genau wie Gregor\, wäre es mega schön\, wenn auch die Zuschauer:innen in diesem Look zum Konzert kommen – um diese Ära richtig zu feiern. Der Mai 2026 wird laut. Emotional. Unvergesslich
URL:https://flex.at/event/gregor-haegele-2/
CATEGORIES:Live
ATTACH;FMTTYPE=image/jpeg:https://flex.at/wp-content/uploads/2025/12/68477-19073-1_gh_L1070132-2_credits_SaschaWernicke-querformat-1280x660-2.jpeg
END:VEVENT
BEGIN:VEVENT
DTSTART;TZID=Europe/Berlin:20260520T190000
DTEND;TZID=Europe/Berlin:20260520T230000
DTSTAMP:20260421T093019
CREATED:20260420T073731Z
LAST-MODIFIED:20260420T073731Z
UID:7863-1779303600-1779318000@flex.at
SUMMARY:Nervy
DESCRIPTION:There are bands that simply play concerts. \nAnd then there is the rock band NERVY — a band that lives every show together with the audience. In this 2026 year\, the musicians are heading out on a major European tour. Not to check countries off a list. Not for loud posters or headlines.But for that very connection when thousands of voices sing in unison\, and it suddenly becomes easier to breathe. \nNERVY is rock without masks.\nLoud guitars\, honest lyrics\, and an energy that can’t be rehearsed- it happens here and now. \nTheir songs have long become personal stories for their listeners. These are not just tracks people know: they are songs people live by. At their concerts\, there is no distance between the stage and the crowd. There is only one shared pulse. \nThe upcoming tour is a continuation of a dialogue that has lasted for many years: a dialogue about growing up\, love\, loss\, hope\, and the strength to keep moving forward. \nSee you at the show.
URL:https://flex.at/event/nervy/
CATEGORIES:Live
ATTACH;FMTTYPE=image/webp:https://flex.at/wp-content/uploads/2026/04/403x570.webp
END:VEVENT
BEGIN:VEVENT
DTSTART;TZID=Europe/Berlin:20260523T190000
DTEND;TZID=Europe/Berlin:20260523T230000
DTSTAMP:20260421T093019
CREATED:20251202T095245Z
LAST-MODIFIED:20260224T091744Z
UID:7259-1779562800-1779577200@flex.at
SUMMARY:Frizzy P & Mr Cole
DESCRIPTION:Beat the Fish presents Frizzy P & Mr Cole \n\n\nFRIZZY P & MR COLE\, a trip hop duo with an analog soul\, reveal an intimate\, melancholy and emotionally charged music. With an aesthetic that blends oldschool hip-hop\, trip hop and jazz\, these two artists from the Paris region have established themselves as discreet but increasingly important figures on the independent music scene. Their distinctive style\, with its distinctive sound\, is expressed with sincerity and without artifice in works that are both modern and timeless. FRIZZY P\, singer and songwriter\, and MR COLE\, composer and beatmaker\, met in 2015 in the Paris suburbs. One\, marked by a nomadic past between London and France\, draws from her dual Anglo-Saxon and French culture a unique vision of the musical genre\, which she expresses with a bewitching voice between rap and vocals. The other\, a self-taught artist with a passion for organic sounds\, tirelessly cuts samples that resonate with vintage soul and boom bap\, while placing particular importance on composition. Together\, they decided to combine their talents to give birth to their project. In 2017\, the duo launched their debut EP Ladi Dadi\, a project that crossed borders and quickly established itself as an underground reference. With millions of streams on Spotify and airplay on BBC Music 6\, Nova and FIP\, FRIZZY P & MR COLE demonstrate their ability to reach a wide audience while remaining true to their artistic vision. In 2023\, the duo return with Ladi Dadi II\, a follow-up project to their first opus. This album deepens their style and explores new sonic territories. In April 2024\, they release a side project entitled The Backroom Tape. This mixtape includes seven previously unreleased tracks that didn’t make it onto the trilogy’s EPs. FRIZZY P & MR COLE conclude their trilogy with Ladi Dadi Part III in April 2025. As always\, it’s a successful rendezvous with their loyal listeners\, fusing melancholy\, power and raw emotion. Little by little\, through their works\, they seem to reveal a little more of themselves\, revealing the full depth of their musical alchemy. We find a solid trip-hop base with jazzy accents\, enveloping\, hypnotic and groovy to perfection\, often introspective lyrics\, in which personal experience is sometimes transformed into demands and broader social criticism\, and an energy that comes from heart and soul.
URL:https://flex.at/event/frizzy-p-mr-cole/
CATEGORIES:Cafe Konzert,Cafe Party
ATTACH;FMTTYPE=image/jpeg:https://flex.at/wp-content/uploads/2025/12/68484-19104-Frizzy-P-and-Mr-Cole-3-cCharles-Duez-querformat-1280x660-1.jpeg
END:VEVENT
BEGIN:VEVENT
DTSTART;TZID=Europe/Berlin:20260530T190000
DTEND;TZID=Europe/Berlin:20260530T230000
DTSTAMP:20260421T093019
CREATED:20251202T095532Z
LAST-MODIFIED:20260223T104430Z
UID:7262-1780167600-1780182000@flex.at
SUMMARY:Joey Valence & Brae HYPERYOUTH
DESCRIPTION:Beat the Fish presents Joey Valence & Brae HYPERYOUTH \n\n\nIn the 4 years since joining forces\, fast-rising\, genre-defying alt/hip-hop phenoms Joey Valence & Brae have cemented themselves as a must-see live act and bonafide recording artists with viral one-off singles and full-length projects like their recently released third studio album HYPERYOUTH (RCA Records). With the volume turned up to max capacity and while remaining undeniably themselves throughout\, JVB is as eclectic and hard-hitting as ever on HYPERYOUTH and recently wrapped the first leg of their sold-out HYPERYOUTH WORLD TOUR in celebration of the new record which brought their insane live show (which BBC Radio 1’s Jack Saunders calls “the best live show I’ve been to in years”) to cities throughout North America and the UK as well as to major festivals including Gov Ball\, Bonnaroo\, Lollapalooza (Chicago\, Paris and Berlin)\, Osheaga\, Shaky Knees\, Austin City Limits Music Festival and more. HYPERYOUTH was written\, produced\, mixed and mastered by the pair in Joey’s State College\, PA bedroom and is jam-packed with all the hallmarks of the best of JVB. It’s a sample-heavy\, maximalist rager threaded by boisterous raps\, booty popping bars\, catchy call and response hooks and EDM-infused beats\, and features the likes of JPEGMAFIA\, Rebecca Black and TiaCorine. The record digs deeper thematically\, weaving a message of growing up without getting old throughout — a marked\, lyrical evolution and the duo’s most innovative work to date that still marries elements from their early hits and critically-acclaimed debut PUNK TACTICS (its title track was Certified RIAA Gold) and sophomore LP NO HANDS + NO HANDS (Deluxe Edition)\, which featured Danny Brown\, Z-Trip and Ayesha Erotica. In between those drops\, they’ve collaborated with an eclectic mix of friends and fans including IDK\, Pendulum\, 6ix\, ACRAZE and Apashe\, and conquered the sync market over the past year\, appearing in viral commercials including Pepsi’s award-winning “Chase Cars\,” in video games such as Madden NFL 26\, WWE 2025\, MLB: The Show 24 and on popular TV shows including Abbott Elementary\, Cobra Kai\, Based on a True Story and more. With each year\, JVB grow bolder\, braver and louder\, turning up the volume on their swag as they skillfully traverse a smash and grab collision of 90s hip-hop\, drum ‘n’ bass and decades-spanning pop culture references\, carving out their own niche with a signature sound that’s equal-parts nostalgic yet futuristic\, authentic and infectious while still on a mission to one day open a Cheesecake Factory in their hometown. For more information\, please visit www.jvbsucks.com. 
URL:https://flex.at/event/joey-valence-brae-hyperyouth/
CATEGORIES:Live
ATTACH;FMTTYPE=image/jpeg:https://flex.at/wp-content/uploads/2025/12/69049-19415-_MAIN-PRESS-1-querformat-1280x660-1.jpeg
END:VEVENT
BEGIN:VEVENT
DTSTART;TZID=Europe/Berlin:20260530T190000
DTEND;TZID=Europe/Berlin:20260530T230000
DTSTAMP:20260421T093019
CREATED:20251210T055857Z
LAST-MODIFIED:20260325T091555Z
UID:7374-1780167600-1780182000@flex.at
SUMMARY:Sandra Hesch
DESCRIPTION:SANDRA HESCH \nLIEBLING(s)TOUR 2026 \nMit ihrem Hit „hot for no reason“ machte Sandra Hesch im Sommer 2025 aus einem \nTikTok-Trend im Handumdrehen einen Top 5 trending Sound. Die österreichische \nNewcomerin begeisterte zuletzt das Publikum auf dem Reeperbahn Festival in \nHamburg. Im Mai 2026 können sich Fans nun auf ihre Club- Tournee durch Deutschland \nund Österreich freuen. \nSongwriting liegt der 25-Jährigen im Blut: Schon als Kind verarbeitete Sandra Hesch ihre \nGefühle lieber in Melodien als in Tagebucheinträgen. Mit ihrem bislang größten Track „Hey \nHübscher“ verzeichnet sie mittlerweile über drei Millionen Spotify-Streams. Auf TikTok und \nInstagram hat sie insgesamt rund eine Million Follower:innen\, die sie mit ehrlichen Einblicken \nin ihren Alltag als Sängerin und ihrer eigenen Musik begeistert. Ihr Erfolgsrezept? Authentizität\, \nWortwitz und Inhalte\, die bewegen. Mit einem Augenzwinkern stellt sie Geschlechterklischees \nauf den Kopf und stärkt das Selbstbewusstsein ihrer Zuhörer:innen. \nIhre deutschsprachigen Texte spiegeln die Vielfalt ihres Lebens wider: von Freundschaft und \nBeziehungen bis zu mentaler Gesundheit. In „Liebling“ und „Letzte Warnung“ hält sie Männern \nprovokant den Spiegel vor. Zugleich spricht sie in „LG\, dein Zukunfts-Ich“ und „Blaues Kleid“ \noffen und mutig über Tabu-Themen wie Essstörungen und sexuelle Belästigung. \nAuf ihren Konzerten verfolgt Sandra Hesch ein klares Ziel: mit ihrer Musik einen Safe Space \nzu schaffen – einen Ort\, an dem sich offen über ernste Erfahrungen ausgetauscht und sich \ngegenseitig Kraft geschenkt werden kann. „Für mich geht es in erster Linie um Empowerment \n– Girls support Girls! Ich freue mich\, wenn meine Songs andere ermutigen können und ihnen \nmehr Selbstvertrauen schenken.“ \n30.05.2026 19:30 Uhr Wien Flex Café \nTickets gibt es an allen bekannten Vorverkaufsstellen\, sowie im Internet unter www.oeticket.com.
URL:https://flex.at/event/sandra-hesch/
CATEGORIES:Cafe Konzert,Cafe Party
ATTACH;FMTTYPE=image/jpeg:https://flex.at/wp-content/uploads/2025/12/06_Sandra_Hesch-Credit-Milan-Schmalenbach-scaled.jpg
END:VEVENT
END:VCALENDAR