BEGIN:VCALENDAR
VERSION:2.0
PRODID:-//Flex - ECPv6.15.16//NONSGML v1.0//EN
CALSCALE:GREGORIAN
METHOD:PUBLISH
X-WR-CALNAME:Flex
X-ORIGINAL-URL:https://flex.at
X-WR-CALDESC:Veranstaltungen für Flex
REFRESH-INTERVAL;VALUE=DURATION:PT1H
X-Robots-Tag:noindex
X-PUBLISHED-TTL:PT1H
BEGIN:VTIMEZONE
TZID:Europe/Berlin
BEGIN:DAYLIGHT
TZOFFSETFROM:+0100
TZOFFSETTO:+0200
TZNAME:CEST
DTSTART:20250330T010000
END:DAYLIGHT
BEGIN:STANDARD
TZOFFSETFROM:+0200
TZOFFSETTO:+0100
TZNAME:CET
DTSTART:20251026T010000
END:STANDARD
BEGIN:DAYLIGHT
TZOFFSETFROM:+0100
TZOFFSETTO:+0200
TZNAME:CEST
DTSTART:20260329T010000
END:DAYLIGHT
BEGIN:STANDARD
TZOFFSETFROM:+0200
TZOFFSETTO:+0100
TZNAME:CET
DTSTART:20261025T010000
END:STANDARD
BEGIN:DAYLIGHT
TZOFFSETFROM:+0100
TZOFFSETTO:+0200
TZNAME:CEST
DTSTART:20270328T010000
END:DAYLIGHT
BEGIN:STANDARD
TZOFFSETFROM:+0200
TZOFFSETTO:+0100
TZNAME:CET
DTSTART:20271031T010000
END:STANDARD
END:VTIMEZONE
BEGIN:VEVENT
DTSTART;TZID=Europe/Berlin:20260530T190000
DTEND;TZID=Europe/Berlin:20260530T230000
DTSTAMP:20260423T103426
CREATED:20251210T055857Z
LAST-MODIFIED:20260325T091555Z
UID:7374-1780167600-1780182000@flex.at
SUMMARY:Sandra Hesch
DESCRIPTION:SANDRA HESCH \nLIEBLING(s)TOUR 2026 \nMit ihrem Hit „hot for no reason“ machte Sandra Hesch im Sommer 2025 aus einem \nTikTok-Trend im Handumdrehen einen Top 5 trending Sound. Die österreichische \nNewcomerin begeisterte zuletzt das Publikum auf dem Reeperbahn Festival in \nHamburg. Im Mai 2026 können sich Fans nun auf ihre Club- Tournee durch Deutschland \nund Österreich freuen. \nSongwriting liegt der 25-Jährigen im Blut: Schon als Kind verarbeitete Sandra Hesch ihre \nGefühle lieber in Melodien als in Tagebucheinträgen. Mit ihrem bislang größten Track „Hey \nHübscher“ verzeichnet sie mittlerweile über drei Millionen Spotify-Streams. Auf TikTok und \nInstagram hat sie insgesamt rund eine Million Follower:innen\, die sie mit ehrlichen Einblicken \nin ihren Alltag als Sängerin und ihrer eigenen Musik begeistert. Ihr Erfolgsrezept? Authentizität\, \nWortwitz und Inhalte\, die bewegen. Mit einem Augenzwinkern stellt sie Geschlechterklischees \nauf den Kopf und stärkt das Selbstbewusstsein ihrer Zuhörer:innen. \nIhre deutschsprachigen Texte spiegeln die Vielfalt ihres Lebens wider: von Freundschaft und \nBeziehungen bis zu mentaler Gesundheit. In „Liebling“ und „Letzte Warnung“ hält sie Männern \nprovokant den Spiegel vor. Zugleich spricht sie in „LG\, dein Zukunfts-Ich“ und „Blaues Kleid“ \noffen und mutig über Tabu-Themen wie Essstörungen und sexuelle Belästigung. \nAuf ihren Konzerten verfolgt Sandra Hesch ein klares Ziel: mit ihrer Musik einen Safe Space \nzu schaffen – einen Ort\, an dem sich offen über ernste Erfahrungen ausgetauscht und sich \ngegenseitig Kraft geschenkt werden kann. „Für mich geht es in erster Linie um Empowerment \n– Girls support Girls! Ich freue mich\, wenn meine Songs andere ermutigen können und ihnen \nmehr Selbstvertrauen schenken.“ \n30.05.2026 19:30 Uhr Wien Flex Café \nTickets gibt es an allen bekannten Vorverkaufsstellen\, sowie im Internet unter www.oeticket.com.
URL:https://flex.at/event/sandra-hesch/
CATEGORIES:Cafe Konzert,Cafe Party
ATTACH;FMTTYPE=image/jpeg:https://flex.at/wp-content/uploads/2025/12/06_Sandra_Hesch-Credit-Milan-Schmalenbach-scaled.jpg
END:VEVENT
END:VCALENDAR