BEGIN:VCALENDAR
VERSION:2.0
PRODID:-//Flex - ECPv6.15.16//NONSGML v1.0//EN
CALSCALE:GREGORIAN
METHOD:PUBLISH
X-WR-CALNAME:Flex
X-ORIGINAL-URL:https://flex.at
X-WR-CALDESC:Veranstaltungen für Flex
REFRESH-INTERVAL;VALUE=DURATION:PT1H
X-Robots-Tag:noindex
X-PUBLISHED-TTL:PT1H
BEGIN:VTIMEZONE
TZID:Europe/Berlin
BEGIN:DAYLIGHT
TZOFFSETFROM:+0100
TZOFFSETTO:+0200
TZNAME:CEST
DTSTART:20250330T010000
END:DAYLIGHT
BEGIN:STANDARD
TZOFFSETFROM:+0200
TZOFFSETTO:+0100
TZNAME:CET
DTSTART:20251026T010000
END:STANDARD
BEGIN:DAYLIGHT
TZOFFSETFROM:+0100
TZOFFSETTO:+0200
TZNAME:CEST
DTSTART:20260329T010000
END:DAYLIGHT
BEGIN:STANDARD
TZOFFSETFROM:+0200
TZOFFSETTO:+0100
TZNAME:CET
DTSTART:20261025T010000
END:STANDARD
BEGIN:DAYLIGHT
TZOFFSETFROM:+0100
TZOFFSETTO:+0200
TZNAME:CEST
DTSTART:20270328T010000
END:DAYLIGHT
BEGIN:STANDARD
TZOFFSETFROM:+0200
TZOFFSETTO:+0100
TZNAME:CET
DTSTART:20271031T010000
END:STANDARD
END:VTIMEZONE
BEGIN:VEVENT
DTSTART;TZID=Europe/Berlin:20260519T190000
DTEND;TZID=Europe/Berlin:20260519T230000
DTSTAMP:20260423T161944
CREATED:20260423T075747Z
LAST-MODIFIED:20260423T075747Z
UID:7878-1779217200-1779231600@flex.at
SUMMARY:Ryan Harris
DESCRIPTION:Ryan Harris is a Canadian independent folk musician living in the mountains of Canada. In just 5 years\, Ryan’s music has reached over +100 million streams across all streaming platforms and sold out headline tours across Canada and all of Europe. Growing up around the world in New Zealand and Australia\, artists like Ben Howard & Jack Johnson kept Ryan company during his childhood on the move and influenced his sound. For fans of; Ocie Elliott\, Hazlatt\, Ben Howard and Gregory Alan Isokov. \n\nRyan HarrisHeadliner\nBen MorganSupport
URL:https://flex.at/event/ryan-harris/
CATEGORIES:Cafe Konzert,Cafe Party
ATTACH;FMTTYPE=image/jpeg:https://flex.at/wp-content/uploads/2026/04/68045-18821-gareau-20240703-ryan-harris-35-12-2-Edit-1-querformat-1280x660-1.jpeg
END:VEVENT
END:VCALENDAR