BEGIN:VCALENDAR
VERSION:2.0
PRODID:-//Flex - ECPv6.15.16//NONSGML v1.0//EN
CALSCALE:GREGORIAN
METHOD:PUBLISH
X-WR-CALNAME:Flex
X-ORIGINAL-URL:https://flex.at
X-WR-CALDESC:Veranstaltungen für Flex
REFRESH-INTERVAL;VALUE=DURATION:PT1H
X-Robots-Tag:noindex
X-PUBLISHED-TTL:PT1H
BEGIN:VTIMEZONE
TZID:Europe/Berlin
BEGIN:DAYLIGHT
TZOFFSETFROM:+0100
TZOFFSETTO:+0200
TZNAME:CEST
DTSTART:20250330T010000
END:DAYLIGHT
BEGIN:STANDARD
TZOFFSETFROM:+0200
TZOFFSETTO:+0100
TZNAME:CET
DTSTART:20251026T010000
END:STANDARD
BEGIN:DAYLIGHT
TZOFFSETFROM:+0100
TZOFFSETTO:+0200
TZNAME:CEST
DTSTART:20260329T010000
END:DAYLIGHT
BEGIN:STANDARD
TZOFFSETFROM:+0200
TZOFFSETTO:+0100
TZNAME:CET
DTSTART:20261025T010000
END:STANDARD
BEGIN:DAYLIGHT
TZOFFSETFROM:+0100
TZOFFSETTO:+0200
TZNAME:CEST
DTSTART:20270328T010000
END:DAYLIGHT
BEGIN:STANDARD
TZOFFSETFROM:+0200
TZOFFSETTO:+0100
TZNAME:CET
DTSTART:20271031T010000
END:STANDARD
END:VTIMEZONE
BEGIN:VEVENT
DTSTART;TZID=Europe/Berlin:20260516T230000
DTEND;TZID=Europe/Berlin:20260516T230000
DTSTAMP:20260423T123010
CREATED:20260421T085004Z
LAST-MODIFIED:20260421T085004Z
UID:7869-1778972400-1778972400@flex.at
SUMMARY:MAHLWERK & PARK IT HERE w/ DIFFRENT
DESCRIPTION:MAHLWERK & PARK IT HERE w/ DIFFRENT\nSamstag 16 Mai 2026\n\nBeginn: 23:00\n\n\nThis time we are combing forces with Viennese Nr.1 UKG-Crew “PARK IT HERE”. We are happy to introduce you to DIFFRENT.\nThe Berlin-based DJ and producer Diffrent\, stormed the scene last year with his debut single ‘Live And Direct’. Making waves with his unique and energetic take on the legendary UK sound\, infused with his own modern groovy twist. \nFull Line Up\nDIFFRENT (DE)\nCHERCHES b2b KEEO.FM (PARK IT HERE)\nBOYOHBOY (PARK IT HERE)\nGOLDI b2b MAX WAGNER (MAHLWERK)\nSKOFI (DJ Set) \nWe are looking forward to a night filled with UKG\, Breaks\, 140\, G-Groove AND you guys dancing on the dancefloor. \n\n\nStandort\nFlex\nAugartenbrücke\, am Donaukanal\n1010 Vienna
URL:https://flex.at/event/mahlwerk-park-it-here-w-diffrent/
CATEGORIES:Club
ATTACH;FMTTYPE=image/jpeg:https://flex.at/wp-content/uploads/2026/04/mahlwerk_parkithere_May_RA_1.jpeg
END:VEVENT
END:VCALENDAR