BEGIN:VCALENDAR
VERSION:2.0
PRODID:-//Flex - ECPv6.15.16//NONSGML v1.0//EN
CALSCALE:GREGORIAN
METHOD:PUBLISH
X-WR-CALNAME:Flex
X-ORIGINAL-URL:https://flex.at
X-WR-CALDESC:Veranstaltungen für Flex
REFRESH-INTERVAL;VALUE=DURATION:PT1H
X-Robots-Tag:noindex
X-PUBLISHED-TTL:PT1H
BEGIN:VTIMEZONE
TZID:Europe/Berlin
BEGIN:DAYLIGHT
TZOFFSETFROM:+0100
TZOFFSETTO:+0200
TZNAME:CEST
DTSTART:20250330T010000
END:DAYLIGHT
BEGIN:STANDARD
TZOFFSETFROM:+0200
TZOFFSETTO:+0100
TZNAME:CET
DTSTART:20251026T010000
END:STANDARD
BEGIN:DAYLIGHT
TZOFFSETFROM:+0100
TZOFFSETTO:+0200
TZNAME:CEST
DTSTART:20260329T010000
END:DAYLIGHT
BEGIN:STANDARD
TZOFFSETFROM:+0200
TZOFFSETTO:+0100
TZNAME:CET
DTSTART:20261025T010000
END:STANDARD
BEGIN:DAYLIGHT
TZOFFSETFROM:+0100
TZOFFSETTO:+0200
TZNAME:CEST
DTSTART:20270328T010000
END:DAYLIGHT
BEGIN:STANDARD
TZOFFSETFROM:+0200
TZOFFSETTO:+0100
TZNAME:CET
DTSTART:20271031T010000
END:STANDARD
END:VTIMEZONE
BEGIN:VEVENT
DTSTART;TZID=Europe/Berlin:20260606T190000
DTEND;TZID=Europe/Berlin:20260606T230000
DTSTAMP:20260423T103307
CREATED:20260210T100233Z
LAST-MODIFIED:20260223T104401Z
UID:7516-1780772400-1780786800@flex.at
SUMMARY:KRS-One
DESCRIPTION:KRS-One\nMY PHILOSOPHY EUROPEAN TOUR 2026 \nAfter decades of cultural influence and groundbreaking releases\, KRS-\nOne – The Teacha\, the architect of Boom-Bap and one of Hip-\nHop’s most powerful voices – is set to embark on a monumental\n40-city European Tour in 2026.\nThe My Philosophy Tour brings raw\, authentic Hip-Hop across\nFrance\, Germany\, Spain\, the Netherlands\, Switzerland\, Italy\,\nScandinavia\, Eastern Europe and more.\nAudiences can expect a powerful live experience featuring timeless\nclassics such as “Sound of da Police\,” “MC’s Act Like They Don’t\nKnow\,” “My Philosophy\,” and many more — delivered with the\nconsciousness\, energy and lyrical mastery that made KRS-One a global\nicon.\nThis is more than a concert.\nThis is knowledge\, culture and Hip-Hop in its purest form. \nPresented by Latfro Entertainment\, Ramp Ent. Agency & Master\nEntertainment.\nTickets & Tourdates: www.krs.latfro.com\nWhatsApp Ticket Hotline: +49 175 525 59 67\nKRS One Team Hotline: +1-646-KRS-4800\nE-mail: press@latfro.co
URL:https://flex.at/event/krs-one/
CATEGORIES:Live
ATTACH;FMTTYPE=image/png:https://flex.at/wp-content/uploads/2026/02/KRS-ONE-MY-PHILOSOPHY-TOUR-COVER.png
END:VEVENT
END:VCALENDAR