BEGIN:VCALENDAR
VERSION:2.0
PRODID:-//Flex - ECPv6.15.16//NONSGML v1.0//EN
CALSCALE:GREGORIAN
METHOD:PUBLISH
X-WR-CALNAME:Flex
X-ORIGINAL-URL:https://flex.at
X-WR-CALDESC:Veranstaltungen für Flex
REFRESH-INTERVAL;VALUE=DURATION:PT1H
X-Robots-Tag:noindex
X-PUBLISHED-TTL:PT1H
BEGIN:VTIMEZONE
TZID:Europe/Berlin
BEGIN:DAYLIGHT
TZOFFSETFROM:+0100
TZOFFSETTO:+0200
TZNAME:CEST
DTSTART:20250330T010000
END:DAYLIGHT
BEGIN:STANDARD
TZOFFSETFROM:+0200
TZOFFSETTO:+0100
TZNAME:CET
DTSTART:20251026T010000
END:STANDARD
BEGIN:DAYLIGHT
TZOFFSETFROM:+0100
TZOFFSETTO:+0200
TZNAME:CEST
DTSTART:20260329T010000
END:DAYLIGHT
BEGIN:STANDARD
TZOFFSETFROM:+0200
TZOFFSETTO:+0100
TZNAME:CET
DTSTART:20261025T010000
END:STANDARD
BEGIN:DAYLIGHT
TZOFFSETFROM:+0100
TZOFFSETTO:+0200
TZNAME:CEST
DTSTART:20270328T010000
END:DAYLIGHT
BEGIN:STANDARD
TZOFFSETFROM:+0200
TZOFFSETTO:+0100
TZNAME:CET
DTSTART:20271031T010000
END:STANDARD
END:VTIMEZONE
BEGIN:VEVENT
DTSTART;TZID=Europe/Berlin:20260410T190000
DTEND;TZID=Europe/Berlin:20260410T230000
DTSTAMP:20260421T093035
CREATED:20260203T094830Z
LAST-MODIFIED:20260223T104401Z
UID:7504-1775847600-1775862000@flex.at
SUMMARY:HOT 8 BRASS BAND
DESCRIPTION:HOT 8 BRASS BAND \nGrammy-ausgezeichnete Band aus New Orleans \nfür drei Shows in Österreich  \n\nMit einem mehrdimensionalen stilistischen Ansatz führt die Hot 8 Brass Band das Jazz-Erbe ihrer Heimatstadt New Orleans mit modernen Elementen wie Funk\, Hip-Hop und Rap weiter. Die Vielschichtigkeit dieses Sounds zeigt sich in ihren Interpretationen wie ihrer gefeierten Version von Marvin Gayes „Sexual Healing“ sowie frischen Takes auf Artists wie Snoop Dogg\, Stevie Wonder und The Specials\, deren Songs mit einem Oldschool-Brass-Ansatz funkier denn je erklingen. In ihrer über 30-jährigen Karriere hat die Hot 8 Brass Band mit Jon Batiste\, den Blind Boys of Alabama\, Basement Jaxx und Alice Russell gearbeitet\, während sie live mit Künstlern wie Mos Def\, Lauryn Hill\, George Ezra und Mary J. Blige kollaborierten. Für ihr Feature auf Jon Batistes Album „We Are“ (2021) wurde das Kollektiv 2022 mit einem Grammy für das Album des Jahres ausgezeichnet. Im April kommt die Hot 8 Brass Band für drei Shows nach Österreich und wird im Dornbirner Conrad Sohm\, im Wiener Flex sowie im Aflenzer Sublime live zu sehen sein. \n\n1995 gründeten Bandleader und Sousaphonist Bennie Pete\, Posaunist Jerome Jones undDrummer Harry Cook die Hot 8 Brass Band in New Orleans. Seitdem schreibt die achtköpfigeBand eine Geschichte aus Tragödie und Triumph. Eine Geschichte\, die von tragischen Toden von vier Gründungsmitgliedern aufgrund von Straßengewalt und Krankheit gleichermaßen geprägt worden ist\, wie vom Hurricane Katrina im Jahr 2005\, der 80% von New Orleans flutete. Erst 2007 veröffentlichte das Kollektiv ihr erstes Studioalbum „Rock with The Hot 8“über das im englischen Brighton ansässige Label Tru Thoughts\, bei dem Hot 8 Brass Band bis heute unter Vertrag stehen. 2012 erschien das zweite Album „The Life and Times of the Hot 8 Brass Band“\, das 2013 bei den Grammy Awards als „Best Regional Roots Album“ nominiert wurde. Bereits 2013 folgte das dazugehörige Schwesteralbum “Tombstone“\, das sich den ehemaligen\, bereits verstorbenen Bandmitgliedern widmete. Nach dem 2017 veröffentlichten Album „On the Spot“ sowie dem 2019 erschienenen „Take Cover“ ließ die Hot 8 Brass Band ganze sechs Jahre auf ein neues Release warten. Nach dem Ableben von Bennie Pete im Jahr 2021 widmete sich die Band 2023 auf der The Bossman Tour 2023 seinem Wirken und widmete sich auch auf ihrem neuen Album ihrem unvergessenen Bandleader. „Big Tuba“ erschien 2025\,nachdem die Band bereits auf ihrer Big Tuba Tour durch die USA und Europa tourte. Erneut überzeugt die Hot 8 Brass Band mit ihrem vielseitigen\, im Jazz-getränken Genremix und mit ihrem nostalgischen und mitreißenden Brass-Sound und führt Bennie Petes großen Wunsch weiter: „\,dass die Kultur von New Orleans für zukünftige Generationen fortbesteht.“ \n\n\n\n\n\nLive Nation Presents \nHOT 8 BRASS BAND \n\nMi.​08.04.2026​Dornbirn ​Conrad Sohm \nFr.​10.04.2026​Wien ​​Flex \nSa.​11.04.2026​Aflenz ​​Sublime \n\n\nÖSTERREICH \n\nAllgemeiner Vorverkaufsstart: \nDo.\,05.02.2026\, 09:00 Uhr \nwww.livenation.de/hot-8-brass-band-tickets-adp511217 \n\nwww.ticketmaster.at\nhttps://www.ticketmaster.at/artist/488353?venueId=585&brand=at_livenation \n\n\n\nwww.livenation.at\nfacebook.com/livenationGSA | twitter.com/livenationGSA \ninstagram.com/livenationGSA | youtube.com/livenationGSA
URL:https://flex.at/event/hot-8-brass-band/
CATEGORIES:Live
ATTACH;FMTTYPE=image/jpeg:https://flex.at/wp-content/uploads/2026/02/Press-Photo-scaled.jpeg
END:VEVENT
END:VCALENDAR