BEGIN:VCALENDAR
VERSION:2.0
PRODID:-//Flex - ECPv6.15.16//NONSGML v1.0//EN
CALSCALE:GREGORIAN
METHOD:PUBLISH
X-WR-CALNAME:Flex
X-ORIGINAL-URL:https://flex.at
X-WR-CALDESC:Veranstaltungen für Flex
REFRESH-INTERVAL;VALUE=DURATION:PT1H
X-Robots-Tag:noindex
X-PUBLISHED-TTL:PT1H
BEGIN:VTIMEZONE
TZID:Europe/Berlin
BEGIN:DAYLIGHT
TZOFFSETFROM:+0100
TZOFFSETTO:+0200
TZNAME:CEST
DTSTART:20250330T010000
END:DAYLIGHT
BEGIN:STANDARD
TZOFFSETFROM:+0200
TZOFFSETTO:+0100
TZNAME:CET
DTSTART:20251026T010000
END:STANDARD
BEGIN:DAYLIGHT
TZOFFSETFROM:+0100
TZOFFSETTO:+0200
TZNAME:CEST
DTSTART:20260329T010000
END:DAYLIGHT
BEGIN:STANDARD
TZOFFSETFROM:+0200
TZOFFSETTO:+0100
TZNAME:CET
DTSTART:20261025T010000
END:STANDARD
BEGIN:DAYLIGHT
TZOFFSETFROM:+0100
TZOFFSETTO:+0200
TZNAME:CEST
DTSTART:20270328T010000
END:DAYLIGHT
BEGIN:STANDARD
TZOFFSETFROM:+0200
TZOFFSETTO:+0100
TZNAME:CET
DTSTART:20271031T010000
END:STANDARD
END:VTIMEZONE
BEGIN:VEVENT
DTSTART;TZID=Europe/Berlin:20260404T190000
DTEND;TZID=Europe/Berlin:20260404T230000
DTSTAMP:20260420T154841
CREATED:20260202T062129Z
LAST-MODIFIED:20260223T104401Z
UID:7496-1775329200-1775343600@flex.at
SUMMARY:Gola Gianni
DESCRIPTION:Gola Gianni – City Stories Tour 2026
URL:https://flex.at/event/gola-gianni/
CATEGORIES:Live
ATTACH;FMTTYPE=image/jpeg:https://flex.at/wp-content/uploads/2026/02/IMG_0022.jpeg
END:VEVENT
END:VCALENDAR