BEGIN:VCALENDAR
VERSION:2.0
PRODID:-//Flex - ECPv6.15.16//NONSGML v1.0//EN
CALSCALE:GREGORIAN
METHOD:PUBLISH
X-WR-CALNAME:Flex
X-ORIGINAL-URL:https://flex.at
X-WR-CALDESC:Veranstaltungen für Flex
REFRESH-INTERVAL;VALUE=DURATION:PT1H
X-Robots-Tag:noindex
X-PUBLISHED-TTL:PT1H
BEGIN:VTIMEZONE
TZID:Europe/Berlin
BEGIN:DAYLIGHT
TZOFFSETFROM:+0100
TZOFFSETTO:+0200
TZNAME:CEST
DTSTART:20250330T010000
END:DAYLIGHT
BEGIN:STANDARD
TZOFFSETFROM:+0200
TZOFFSETTO:+0100
TZNAME:CET
DTSTART:20251026T010000
END:STANDARD
BEGIN:DAYLIGHT
TZOFFSETFROM:+0100
TZOFFSETTO:+0200
TZNAME:CEST
DTSTART:20260329T010000
END:DAYLIGHT
BEGIN:STANDARD
TZOFFSETFROM:+0200
TZOFFSETTO:+0100
TZNAME:CET
DTSTART:20261025T010000
END:STANDARD
BEGIN:DAYLIGHT
TZOFFSETFROM:+0100
TZOFFSETTO:+0200
TZNAME:CEST
DTSTART:20270328T010000
END:DAYLIGHT
BEGIN:STANDARD
TZOFFSETFROM:+0200
TZOFFSETTO:+0100
TZNAME:CET
DTSTART:20271031T010000
END:STANDARD
END:VTIMEZONE
BEGIN:VEVENT
DTSTART;TZID=Europe/Berlin:20260630T190000
DTEND;TZID=Europe/Berlin:20260630T230000
DTSTAMP:20260423T103142
CREATED:20260219T072617Z
LAST-MODIFIED:20260223T104401Z
UID:7663-1782846000-1782860400@flex.at
SUMMARY:Don West
DESCRIPTION:EU & UK Tour 2026“\npresented by Radio Superfly \nDon West aus Australien reitet die Welle des globalen Soul-Revivals – und zwar mit Bravour. Der Künstler aus dem sonnigen Sydney prägt dabei seine ganz eigene\, als „coastal soul“ bezeichnete Interpretation: warm\, zeitlos und zugleich erfrischend modern. Seine Einflüsse reichen von Legenden wie Marvin Gaye und Curtis Mayfield bis hin zu zeitgenössischen Acts wie Jalen Ngonda oder Thee Sacred Souls – eine Mischung\, die sich in seinem Sound ebenso respektvoll wie selbstbewusst widerspiegelt. 🧡 Tickets gibt es ab 19.02.2026\, 12 Uh
URL:https://flex.at/event/don-west/
CATEGORIES:Live
END:VEVENT
END:VCALENDAR