BEGIN:VCALENDAR
VERSION:2.0
PRODID:-//Flex - ECPv6.15.16//NONSGML v1.0//EN
CALSCALE:GREGORIAN
METHOD:PUBLISH
X-WR-CALNAME:Flex
X-ORIGINAL-URL:https://flex.at
X-WR-CALDESC:Veranstaltungen für Flex
REFRESH-INTERVAL;VALUE=DURATION:PT1H
X-Robots-Tag:noindex
X-PUBLISHED-TTL:PT1H
BEGIN:VTIMEZONE
TZID:Europe/Berlin
BEGIN:DAYLIGHT
TZOFFSETFROM:+0100
TZOFFSETTO:+0200
TZNAME:CEST
DTSTART:20250330T010000
END:DAYLIGHT
BEGIN:STANDARD
TZOFFSETFROM:+0200
TZOFFSETTO:+0100
TZNAME:CET
DTSTART:20251026T010000
END:STANDARD
BEGIN:DAYLIGHT
TZOFFSETFROM:+0100
TZOFFSETTO:+0200
TZNAME:CEST
DTSTART:20260329T010000
END:DAYLIGHT
BEGIN:STANDARD
TZOFFSETFROM:+0200
TZOFFSETTO:+0100
TZNAME:CET
DTSTART:20261025T010000
END:STANDARD
BEGIN:DAYLIGHT
TZOFFSETFROM:+0100
TZOFFSETTO:+0200
TZNAME:CEST
DTSTART:20270328T010000
END:DAYLIGHT
BEGIN:STANDARD
TZOFFSETFROM:+0200
TZOFFSETTO:+0100
TZNAME:CET
DTSTART:20271031T010000
END:STANDARD
END:VTIMEZONE
BEGIN:VEVENT
DTSTART;TZID=Europe/Berlin:20260611T190000
DTEND;TZID=Europe/Berlin:20260611T230000
DTSTAMP:20260423T103457
CREATED:20250808T061540Z
LAST-MODIFIED:20260223T104431Z
UID:6962-1781204400-1781218800@flex.at
SUMMARY:Audio88 & Yassin
DESCRIPTION:Liebe Fans\,\ndie Entscheidung fiel uns alles andere als leicht\, aber wir müssen die NEUES ALBUM 2025 TOUR leider auf nächstes Jahr verschieben.\nLasst es uns ehrlich und transparent erklären: Unser neues Album ist zu 90% fertig und euch erwartet ungelogen unsere beste und längste Platte seit langem. Aber genau deshalb hat sie auch mehr Zeit in Anspruch genommen als geplant. Gleichzeitig steht die Tour so nah vor der Tür\, dass wir uns klonen müssten\, um dieses Spektakel so vorzubereiten\, dass es für euch wie jedes Mal ein unvergesslicher Abend wird. Wir sind immer noch eine Zwei-Mann-Armee\, zwar mit einem tollen Team\, aber ohne Management und Label-Support im Rücken. Leider haben wir dieses Mal unsere persönlichen Grenzen des Machbaren erreicht\, das müssen wir uns und auch euch ehrlich eingestehen.\nUm euch unser bestes Album UND eine Tour geben zu können\, die diesem Album und unseren Ansprüchen auch gerecht wird\, haben wir uns schweren Herzens für eine Verschiebung entschieden. Wir wünschten\, es wäre anders und hätten euch gerne beides noch dieses Jahr präsentiert.\nDanke für euer Verständnis und dass ihr nach über 15 Jahren immer noch dabei bleibt und Indie-Artists wie uns supportet. Wir schwören\, wir werden euch nicht enttäuschen!”
URL:https://flex.at/event/audio88-yassin/
CATEGORIES:Live
ATTACH;FMTTYPE=image/jpeg:https://flex.at/wp-content/uploads/2025/08/Audio88-Yassin-neues-album-tour-2025-m.jpeg
END:VEVENT
END:VCALENDAR