BEGIN:VCALENDAR
VERSION:2.0
PRODID:-//Flex - ECPv6.15.16//NONSGML v1.0//EN
CALSCALE:GREGORIAN
METHOD:PUBLISH
X-WR-CALNAME:Flex
X-ORIGINAL-URL:https://flex.at
X-WR-CALDESC:Veranstaltungen für Flex
REFRESH-INTERVAL;VALUE=DURATION:PT1H
X-Robots-Tag:noindex
X-PUBLISHED-TTL:PT1H
BEGIN:VTIMEZONE
TZID:Europe/Berlin
BEGIN:DAYLIGHT
TZOFFSETFROM:+0100
TZOFFSETTO:+0200
TZNAME:CEST
DTSTART:20250330T010000
END:DAYLIGHT
BEGIN:STANDARD
TZOFFSETFROM:+0200
TZOFFSETTO:+0100
TZNAME:CET
DTSTART:20251026T010000
END:STANDARD
BEGIN:DAYLIGHT
TZOFFSETFROM:+0100
TZOFFSETTO:+0200
TZNAME:CEST
DTSTART:20260329T010000
END:DAYLIGHT
BEGIN:STANDARD
TZOFFSETFROM:+0200
TZOFFSETTO:+0100
TZNAME:CET
DTSTART:20261025T010000
END:STANDARD
BEGIN:DAYLIGHT
TZOFFSETFROM:+0100
TZOFFSETTO:+0200
TZNAME:CEST
DTSTART:20270328T010000
END:DAYLIGHT
BEGIN:STANDARD
TZOFFSETFROM:+0200
TZOFFSETTO:+0100
TZNAME:CET
DTSTART:20271031T010000
END:STANDARD
END:VTIMEZONE
BEGIN:VEVENT
DTSTART;TZID=Europe/Berlin:20261025T190000
DTEND;TZID=Europe/Berlin:20261025T230000
DTSTAMP:20260423T161311
CREATED:20260423T084347Z
LAST-MODIFIED:20260423T084347Z
UID:7881-1792954800-1792969200@flex.at
SUMMARY:And So I Watch You From Afar & Caspian
DESCRIPTION:And So I Watch You From AfarHeadliner\nCaspianHeadliner\notay:oniiSupport\nCO HEADLINER TOUR\n  \nAnd So I Watch You From Afar were born from freezing cold winters on the northern most tip of Ireland. They play raw\, charging\, experimental music that is hard to define. Sometimes angular and noisy\, sometimes pulsing\, euphoric\, overwhelming. The joy\, the power\, the escapism found in their live shows is fabled. In 2006 they jumped in the van and didn’t stop. Across Europe\, USA\, Russia\, Asia\, Central America\, Australia\, touring relentlessly\, they’ve slowly built a cult following around the world. Their albums are uncompromising and exploratory. The true spirit of independence\, the definition of DIY\, of realness and resolve.
URL:https://flex.at/event/and-so-i-watch-you-from-afar-caspian/
CATEGORIES:Live
ATTACH;FMTTYPE=image/jpeg:https://flex.at/wp-content/uploads/2026/04/71626-20826-ASIWYFA-CREDITS-TOM-MCGEEHAN-2-querformat-1280x660-1.jpeg
END:VEVENT
END:VCALENDAR